BEGIN:VCALENDAR
VERSION:2.0
PRODID:-//Westwood Schools - ECPv5.12.2//NONSGML v1.0//EN
CALSCALE:GREGORIAN
METHOD:PUBLISH
X-WR-CALNAME:Westwood Schools
X-ORIGINAL-URL:https://www.westwoodschools.org
X-WR-CALDESC:Events for Westwood Schools
BEGIN:VTIMEZONE
TZID:America/New_York
BEGIN:DAYLIGHT
TZOFFSETFROM:-0500
TZOFFSETTO:-0400
TZNAME:EDT
DTSTART:20230312T070000
END:DAYLIGHT
BEGIN:STANDARD
TZOFFSETFROM:-0400
TZOFFSETTO:-0500
TZNAME:EST
DTSTART:20231105T060000
END:STANDARD
END:VTIMEZONE
BEGIN:VEVENT
DTSTART;VALUE=DATE:20230412
DTEND;VALUE=DATE:20230413
DTSTAMP:20260425T121830
CREATED:20230207T154206Z
LAST-MODIFIED:20230410T133502Z
UID:50773-1681257600-1681343999@www.westwoodschools.org
SUMMARY:Varsity Track - Region Meet @ Hugh Mills - Click here for details
DESCRIPTION:Meet Schedule: \n8:00 AM: Implement weigh-in/scratch meeting \n8:30 AM: 3200m Run(AAA Girls\, AA Girls\, AAA Boys\, AA Boys) \n9:00 AM: AAA Boys Shot\, AAA Girls Discus\, AA Boys Long Jump\, AA Girls Triple Jump\, AAA Girls High Jump\, AA Girls Pole Vault \n9:45 AM: AAA Girls Shot\, AAA Boys Discus\, AA Girls Long Jump\, AA Boys Triple Jump\, AA Boys High Jump\, AA Boys Pole Vault \n10:30 AM: 4x800m Relay(AAA Girls\, AA Girls\, AAA Boys\, AA Boys) \n10:30 AM: AA Boys Shot\, AA Girls Discus\, AAA Boys Long Jump\, AAA Girls Triple Jump\, AAA Boys High Jump\, AAA Boys Pole Vault \n11:15 AM: AA Girls Shot\, AA Boys Discus\, AAA Girls Long Jump\, AAA Boys Triple Jump\, AA Girls High Jump\, AAA Girls Pole Vault \nAll Other Running Events Begin at 12:30 PM(AAA Girls\, AA Girls\, AAA Boys\, AA Boys): \n4x100m Relay \n100m/110m Hurdles \n100m Dash \n1600m Run \n400m Dash \n300m Hurdles \n800m Run \n200m Dash \n4x400m Relay \nAwards \n  \n 
URL:https://www.westwoodschools.org/event/varsity-track-region-meet-hugh-mills/
LOCATION:Hugh Mills Albany\, GA\, 601 N VanBuren St\, Albany\, GA\, 31701\, United States
CATEGORIES:Sports,Track/ Cross Country
ORGANIZER;CN="School%20wide%20events":MAILTO:mailto:westwoodschools.org_au73ecodmkt00utcltnd404f1k@group.calendar.google.com
END:VEVENT
END:VCALENDAR