BEGIN:VCALENDAR
VERSION:2.0
PRODID:-//Westwood Schools - ECPv5.12.2//NONSGML v1.0//EN
CALSCALE:GREGORIAN
METHOD:PUBLISH
X-WR-CALNAME:Westwood Schools
X-ORIGINAL-URL:https://www.westwoodschools.org
X-WR-CALDESC:Events for Westwood Schools
BEGIN:VTIMEZONE
TZID:America/New_York
BEGIN:DAYLIGHT
TZOFFSETFROM:-0500
TZOFFSETTO:-0400
TZNAME:EDT
DTSTART:20170312T070000
END:DAYLIGHT
BEGIN:STANDARD
TZOFFSETFROM:-0400
TZOFFSETTO:-0500
TZNAME:EST
DTSTART:20171105T060000
END:STANDARD
END:VTIMEZONE
BEGIN:VEVENT
DTSTART;TZID=America/New_York:20170725T134500
DTEND;TZID=America/New_York:20170725T141500
DTSTAMP:20260425T213240
CREATED:20170527T030332Z
LAST-MODIFIED:20170718T103856Z
UID:13380-1500990300-1500992100@www.westwoodschools.org
SUMMARY:Varsity Softball Pictures
DESCRIPTION:
URL:https://www.westwoodschools.org/event/varsity-softball-pictures/
CATEGORIES:Softball
END:VEVENT
END:VCALENDAR