BEGIN:VCALENDAR
VERSION:2.0
PRODID:-//Westwood Schools - ECPv5.12.2//NONSGML v1.0//EN
CALSCALE:GREGORIAN
METHOD:PUBLISH
X-WR-CALNAME:Westwood Schools
X-ORIGINAL-URL:https://www.westwoodschools.org
X-WR-CALDESC:Events for Westwood Schools
BEGIN:VTIMEZONE
TZID:America/New_York
BEGIN:DAYLIGHT
TZOFFSETFROM:-0500
TZOFFSETTO:-0400
TZNAME:EDT
DTSTART:20250309T070000
END:DAYLIGHT
BEGIN:STANDARD
TZOFFSETFROM:-0400
TZOFFSETTO:-0500
TZNAME:EST
DTSTART:20251102T060000
END:STANDARD
END:VTIMEZONE
BEGIN:VEVENT
DTSTART;TZID=America/New_York:20250320T153000
DTEND;TZID=America/New_York:20250320T180000
DTSTAMP:20260423T025038
CREATED:20250220T200809Z
LAST-MODIFIED:20250220T200809Z
UID:53053-1742484600-1742493600@www.westwoodschools.org
SUMMARY:Tennis @ Sherwood Christian
DESCRIPTION:
URL:https://www.westwoodschools.org/event/tennis-sherwood-christian/
LOCATION:Sherwood Christian Academy\, 1418 Old Pretoria Rd\, Albany\, GA\, 31721\, United States
CATEGORIES:Sports
ORGANIZER;CN="School%20wide%20events":MAILTO:mailto:westwoodschools.org_au73ecodmkt00utcltnd404f1k@group.calendar.google.com
END:VEVENT
BEGIN:VEVENT
DTSTART;TZID=America/New_York:20250320T160000
DTEND;TZID=America/New_York:20250320T170000
DTSTAMP:20260423T025038
CREATED:20250220T203819Z
LAST-MODIFIED:20250220T203819Z
UID:53080-1742486400-1742490000@www.westwoodschools.org
SUMMARY:Middle School Baseball @ Fullington
DESCRIPTION:
URL:https://www.westwoodschools.org/event/middle-school-baseball-fullington/
LOCATION:Fullington Academy\, 264 Pine Avenue\, Pinehurst\, GA\, 31070\, United States
CATEGORIES:Sports
ORGANIZER;CN="School%20wide%20events":MAILTO:mailto:westwoodschools.org_au73ecodmkt00utcltnd404f1k@group.calendar.google.com
END:VEVENT
BEGIN:VEVENT
DTSTART;TZID=America/New_York:20250320T160000
DTEND;TZID=America/New_York:20250320T180000
DTSTAMP:20260423T025038
CREATED:20250318T141250Z
LAST-MODIFIED:20250318T141330Z
UID:53283-1742486400-1742493600@www.westwoodschools.org
SUMMARY:Middle School Tennis @ Grace Christian
DESCRIPTION:
URL:https://www.westwoodschools.org/event/middle-school-tennis-grace/
LOCATION:Grace Christian Athletic Complex\, 751 Faceville Hwy\, Bainbridge\, GA\, 3.9819\, United States
CATEGORIES:Sports
ORGANIZER;CN="School%20wide%20events":MAILTO:mailto:westwoodschools.org_au73ecodmkt00utcltnd404f1k@group.calendar.google.com
END:VEVENT
BEGIN:VEVENT
DTSTART;TZID=America/New_York:20250320T163000
DTEND;TZID=America/New_York:20250320T183000
DTSTAMP:20260423T025038
CREATED:20250221T160919Z
LAST-MODIFIED:20250318T164113Z
UID:53124-1742488200-1742495400@www.westwoodschools.org
SUMMARY:Varsity Baseball vs. Fullington
DESCRIPTION:
URL:https://www.westwoodschools.org/event/varsity-baseball-vs-fullington-2/
LOCATION:Westwood Schools\, 255 Fuller St\, Camilla\, GA\, 31730\, United States
CATEGORIES:Sports
ORGANIZER;CN="School%20wide%20events":MAILTO:mailto:westwoodschools.org_au73ecodmkt00utcltnd404f1k@group.calendar.google.com
END:VEVENT
END:VCALENDAR