BEGIN:VCALENDAR
VERSION:2.0
PRODID:-//Westwood Schools - ECPv5.12.2//NONSGML v1.0//EN
CALSCALE:GREGORIAN
METHOD:PUBLISH
X-WR-CALNAME:Westwood Schools
X-ORIGINAL-URL:https://www.westwoodschools.org
X-WR-CALDESC:Events for Westwood Schools
BEGIN:VTIMEZONE
TZID:America/New_York
BEGIN:DAYLIGHT
TZOFFSETFROM:-0500
TZOFFSETTO:-0400
TZNAME:EDT
DTSTART:20220313T070000
END:DAYLIGHT
BEGIN:STANDARD
TZOFFSETFROM:-0400
TZOFFSETTO:-0500
TZNAME:EST
DTSTART:20221106T060000
END:STANDARD
END:VTIMEZONE
BEGIN:VEVENT
DTSTART;TZID=America/New_York:20220303T153000
DTEND;TZID=America/New_York:20220303T180000
DTSTAMP:20260422T223542
CREATED:20220203T171744Z
LAST-MODIFIED:20220203T171744Z
UID:49402-1646321400-1646330400@www.westwoodschools.org
SUMMARY:Varsity Tennis @ Terrell (Doublegate)
DESCRIPTION:
URL:https://www.westwoodschools.org/event/varsity-tennis-terrell-doublegate/
LOCATION:Doublegate Country Club\, 3800 Old Dawson Road\, Albany\, GA\, 31721\, United States
CATEGORIES:Sports,Tennis
ORGANIZER;CN="School%20wide%20events":MAILTO:mailto:westwoodschools.org_au73ecodmkt00utcltnd404f1k@group.calendar.google.com
END:VEVENT
BEGIN:VEVENT
DTSTART;TZID=America/New_York:20220303T160000
DTEND;TZID=America/New_York:20220303T173000
DTSTAMP:20260422T223542
CREATED:20220203T194751Z
LAST-MODIFIED:20220203T194751Z
UID:49457-1646323200-1646328600@www.westwoodschools.org
SUMMARY:JV Baseball @ Terrell Academy
DESCRIPTION:
URL:https://www.westwoodschools.org/event/jv-baseball-terrell-academy-2/
LOCATION:Terrell Academy\, 602 Academy Dr SE\, Dawson\, GA\, 39842\, United States
CATEGORIES:Baseball,Sports
ORGANIZER;CN="School%20wide%20events":MAILTO:mailto:westwoodschools.org_au73ecodmkt00utcltnd404f1k@group.calendar.google.com
END:VEVENT
BEGIN:VEVENT
DTSTART;TZID=America/New_York:20220303T163000
DTEND;TZID=America/New_York:20220303T180000
DTSTAMP:20260422T223542
CREATED:20220204T150824Z
LAST-MODIFIED:20220302T152304Z
UID:49491-1646325000-1646330400@www.westwoodschools.org
SUMMARY:Varsity Baseball vs. Byne
DESCRIPTION:
URL:https://www.westwoodschools.org/event/varsity-baseball-vs-byne/
LOCATION:Westwood Schools\, 255 Fuller St\, Camilla\, GA\, 31730\, United States
CATEGORIES:Baseball,Sports
ORGANIZER;CN="School%20wide%20events":MAILTO:mailto:westwoodschools.org_au73ecodmkt00utcltnd404f1k@group.calendar.google.com
END:VEVENT
END:VCALENDAR