BEGIN:VCALENDAR
VERSION:2.0
PRODID:-//Westwood Schools - ECPv5.12.2//NONSGML v1.0//EN
CALSCALE:GREGORIAN
METHOD:PUBLISH
X-WR-CALNAME:Westwood Schools
X-ORIGINAL-URL:https://www.westwoodschools.org
X-WR-CALDESC:Events for Westwood Schools
BEGIN:VTIMEZONE
TZID:America/New_York
BEGIN:DAYLIGHT
TZOFFSETFROM:-0500
TZOFFSETTO:-0400
TZNAME:EDT
DTSTART:20220313T070000
END:DAYLIGHT
BEGIN:STANDARD
TZOFFSETFROM:-0400
TZOFFSETTO:-0500
TZNAME:EST
DTSTART:20221106T060000
END:STANDARD
END:VTIMEZONE
BEGIN:VEVENT
DTSTART;VALUE=DATE:20220224
DTEND;VALUE=DATE:20220227
DTSTAMP:20260421T190243
CREATED:20220203T194102Z
LAST-MODIFIED:20220203T194102Z
UID:49453-1645660800-1645919999@www.westwoodschools.org
SUMMARY:JV Baseball @ Sherwood - Times TBA
DESCRIPTION:
URL:https://www.westwoodschools.org/event/jv-baseball-sherwood-times-tba/
LOCATION:Sherwood Christian Academy\, 1418 Old Pretoria Rd\, Albany\, GA\, 31721\, United States
CATEGORIES:Baseball,Sports
ORGANIZER;CN="School%20wide%20events":MAILTO:mailto:westwoodschools.org_au73ecodmkt00utcltnd404f1k@group.calendar.google.com
END:VEVENT
BEGIN:VEVENT
DTSTART;VALUE=DATE:20220224
DTEND;VALUE=DATE:20220227
DTSTAMP:20260421T190243
CREATED:20220204T150655Z
LAST-MODIFIED:20220204T150655Z
UID:49487-1645660800-1645919999@www.westwoodschools.org
SUMMARY:Varsity Baseball@ Sherwood - Times TBA
DESCRIPTION:
URL:https://www.westwoodschools.org/event/varsity-baseball-sherwood-times-tba/
LOCATION:Sherwood Christian Academy\, 1418 Old Pretoria Rd\, Albany\, GA\, 31721\, United States
CATEGORIES:Baseball,Sports
ORGANIZER;CN="School%20wide%20events":MAILTO:mailto:westwoodschools.org_au73ecodmkt00utcltnd404f1k@group.calendar.google.com
END:VEVENT
END:VCALENDAR