BEGIN:VCALENDAR
VERSION:2.0
PRODID:-//Westwood Schools - ECPv5.12.2//NONSGML v1.0//EN
CALSCALE:GREGORIAN
METHOD:PUBLISH
X-WR-CALNAME:Westwood Schools
X-ORIGINAL-URL:https://www.westwoodschools.org
X-WR-CALDESC:Events for Westwood Schools
BEGIN:VTIMEZONE
TZID:America/New_York
BEGIN:DAYLIGHT
TZOFFSETFROM:-0500
TZOFFSETTO:-0400
TZNAME:EDT
DTSTART:20220313T070000
END:DAYLIGHT
BEGIN:STANDARD
TZOFFSETFROM:-0400
TZOFFSETTO:-0500
TZNAME:EST
DTSTART:20221106T060000
END:STANDARD
END:VTIMEZONE
BEGIN:VEVENT
DTSTART;TZID=America/New_York:20220222T153000
DTEND;TZID=America/New_York:20220222T180000
DTSTAMP:20260421T104029
CREATED:20220203T171522Z
LAST-MODIFIED:20220203T171522Z
UID:49398-1645543800-1645552800@www.westwoodschools.org
SUMMARY:Varsity Tennis vs. Tiftarea
DESCRIPTION:
URL:https://www.westwoodschools.org/event/varsity-tennis-vs-tiftarea-2/
LOCATION:Mitchell County Tennis Center\, 499 Industrial Blvd\, Camilla\, GA\, 31730\, United States
CATEGORIES:Sports,Tennis
ORGANIZER;CN="School%20wide%20events":MAILTO:mailto:westwoodschools.org_au73ecodmkt00utcltnd404f1k@group.calendar.google.com
END:VEVENT
BEGIN:VEVENT
DTSTART;TZID=America/New_York:20220222T153000
DTEND;TZID=America/New_York:20220222T180000
DTSTAMP:20260421T104029
CREATED:20220203T172448Z
LAST-MODIFIED:20220203T172448Z
UID:49415-1645543800-1645552800@www.westwoodschools.org
SUMMARY:Varsity Tennis vs. Crisp
DESCRIPTION:
URL:https://www.westwoodschools.org/event/varsity-tennis-vs-crisp-6/
LOCATION:Mitchell County Tennis Center\, 499 Industrial Blvd\, Camilla\, GA\, 31730\, United States
CATEGORIES:Sports,Tennis
ORGANIZER;CN="School%20wide%20events":MAILTO:mailto:westwoodschools.org_au73ecodmkt00utcltnd404f1k@group.calendar.google.com
END:VEVENT
BEGIN:VEVENT
DTSTART;TZID=America/New_York:20220222T160000
DTEND;TZID=America/New_York:20220222T173000
DTSTAMP:20260421T104029
CREATED:20220203T193756Z
LAST-MODIFIED:20220203T195620Z
UID:49451-1645545600-1645551000@www.westwoodschools.org
SUMMARY:JV Baseball @ Miller County - Location TBA
DESCRIPTION:
URL:https://www.westwoodschools.org/event/jv-baseball-miller-county/
LOCATION:255 Fuller Street\, Camilla\, GA\, 31730\, United States
CATEGORIES:Baseball,Sports
ORGANIZER;CN="School%20wide%20events":MAILTO:mailto:westwoodschools.org_au73ecodmkt00utcltnd404f1k@group.calendar.google.com
END:VEVENT
END:VCALENDAR