BEGIN:VCALENDAR
VERSION:2.0
PRODID:-//Westwood Schools - ECPv5.12.2//NONSGML v1.0//EN
CALSCALE:GREGORIAN
METHOD:PUBLISH
X-WR-CALNAME:Westwood Schools
X-ORIGINAL-URL:https://www.westwoodschools.org
X-WR-CALDESC:Events for Westwood Schools
BEGIN:VTIMEZONE
TZID:America/New_York
BEGIN:DAYLIGHT
TZOFFSETFROM:-0500
TZOFFSETTO:-0400
TZNAME:EDT
DTSTART:20240310T070000
END:DAYLIGHT
BEGIN:STANDARD
TZOFFSETFROM:-0400
TZOFFSETTO:-0500
TZNAME:EST
DTSTART:20241103T060000
END:STANDARD
END:VTIMEZONE
BEGIN:VEVENT
DTSTART;TZID=America/New_York:20240309T163000
DTEND;TZID=America/New_York:20240309T200000
DTSTAMP:20260423T230238
CREATED:20230427T154657Z
LAST-MODIFIED:20240220T170835Z
UID:50945-1710001800-1710014400@www.westwoodschools.org
SUMMARY:School Auction Sponsored by the Grandparents Club - Click Here for Details
DESCRIPTION:Please notice that there’s a slight change for the Sweet Booth Silent Auction this\nyear: Supper will be ready at 4:30 when the Silent Auction begins. All bidding ENDS at\n5:45 so that everyone is free to attend the Live Auction beginning at 6:00. There will not\nbe any last-minute bidding during the midpoint of the Live Auction. Be sure to place your\nbids by 5:45!
URL:https://www.westwoodschools.org/event/school-auction-sponsored-by-the-grandparents-club/
LOCATION:255 Fuller Street\, Camilla\, GA\, 31730\, United States
CATEGORIES:School Wide Events
ORGANIZER;CN="School%20wide%20events":MAILTO:mailto:westwoodschools.org_au73ecodmkt00utcltnd404f1k@group.calendar.google.com
END:VEVENT
END:VCALENDAR