BEGIN:VCALENDAR
VERSION:2.0
PRODID:-//Westwood Schools - ECPv5.12.2//NONSGML v1.0//EN
CALSCALE:GREGORIAN
METHOD:PUBLISH
X-WR-CALNAME:Westwood Schools
X-ORIGINAL-URL:https://www.westwoodschools.org
X-WR-CALDESC:Events for Westwood Schools
BEGIN:VTIMEZONE
TZID:America/New_York
BEGIN:DAYLIGHT
TZOFFSETFROM:-0500
TZOFFSETTO:-0400
TZNAME:EDT
DTSTART:20240310T070000
END:DAYLIGHT
BEGIN:STANDARD
TZOFFSETFROM:-0400
TZOFFSETTO:-0500
TZNAME:EST
DTSTART:20241103T060000
END:STANDARD
END:VTIMEZONE
BEGIN:VEVENT
DTSTART;TZID=America/New_York:20240225T140000
DTEND;TZID=America/New_York:20240225T150000
DTSTAMP:20260423T230106
CREATED:20240117T145948Z
LAST-MODIFIED:20240117T150506Z
UID:51844-1708869600-1708873200@www.westwoodschools.org
SUMMARY:K Play Day & 1st - 12th Grades Open House - Click Here for Info
DESCRIPTION:Explore Westwood with us! Lower elementary teachers will welcome K3-K5 children and families\, offering a chance to visit classrooms and ask questions. Campus tours are available for prospective 1st through 12th graders. Discover why Westwood is an outstanding choice!  Call 336-7992 to register.
URL:https://www.westwoodschools.org/event/k-play-day-1st-12th-grades-open-house-click-here/
LOCATION:255 Fuller Street\, Camilla\, GA\, 31730\, United States
CATEGORIES:School Wide Events
ORGANIZER;CN="School%20wide%20events":MAILTO:mailto:westwoodschools.org_au73ecodmkt00utcltnd404f1k@group.calendar.google.com
END:VEVENT
END:VCALENDAR