BEGIN:VCALENDAR
VERSION:2.0
PRODID:-//Westwood Schools - ECPv5.12.2//NONSGML v1.0//EN
CALSCALE:GREGORIAN
METHOD:PUBLISH
X-WR-CALNAME:Westwood Schools
X-ORIGINAL-URL:https://www.westwoodschools.org
X-WR-CALDESC:Events for Westwood Schools
BEGIN:VTIMEZONE
TZID:America/New_York
BEGIN:DAYLIGHT
TZOFFSETFROM:-0500
TZOFFSETTO:-0400
TZNAME:EDT
DTSTART:20220313T070000
END:DAYLIGHT
BEGIN:STANDARD
TZOFFSETFROM:-0400
TZOFFSETTO:-0500
TZNAME:EST
DTSTART:20221106T060000
END:STANDARD
END:VTIMEZONE
BEGIN:VEVENT
DTSTART;TZID=America/New_York:20220808T180000
DTEND;TZID=America/New_York:20220808T190000
DTSTAMP:20260425T070516
CREATED:20220718T165255Z
LAST-MODIFIED:20220718T165255Z
UID:49952-1659981600-1659985200@www.westwoodschools.org
SUMMARY:Cottage Meeting K3 - 1st Grade - Cafeteria
DESCRIPTION:
URL:https://www.westwoodschools.org/event/cottage-meeting-k3-1st-grade-cafeteria/
LOCATION:255 Fuller Street\, Camilla\, GA\, 31730\, United States
CATEGORIES:School Wide Events
ORGANIZER;CN="School%20wide%20events":MAILTO:mailto:westwoodschools.org_au73ecodmkt00utcltnd404f1k@group.calendar.google.com
END:VEVENT
BEGIN:VEVENT
DTSTART;TZID=America/New_York:20220808T183000
DTEND;TZID=America/New_York:20220808T193000
DTSTAMP:20260425T070516
CREATED:20220718T165343Z
LAST-MODIFIED:20220718T165343Z
UID:49954-1659983400-1659987000@www.westwoodschools.org
SUMMARY:Cottage Meeting 2nd - 5th Grades - Auditorium
DESCRIPTION:
URL:https://www.westwoodschools.org/event/cottage-meeting-2nd-5th-grades-auditorium/
LOCATION:255 Fuller Street\, Camilla\, GA\, 31730\, United States
CATEGORIES:School Wide Events
ORGANIZER;CN="School%20wide%20events":MAILTO:mailto:westwoodschools.org_au73ecodmkt00utcltnd404f1k@group.calendar.google.com
END:VEVENT
END:VCALENDAR