BEGIN:VCALENDAR
VERSION:2.0
PRODID:-//Westwood Schools - ECPv5.12.2//NONSGML v1.0//EN
CALSCALE:GREGORIAN
METHOD:PUBLISH
X-WR-CALNAME:Westwood Schools
X-ORIGINAL-URL:https://www.westwoodschools.org
X-WR-CALDESC:Events for Westwood Schools
BEGIN:VTIMEZONE
TZID:America/New_York
BEGIN:DAYLIGHT
TZOFFSETFROM:-0500
TZOFFSETTO:-0400
TZNAME:EDT
DTSTART:20250309T070000
END:DAYLIGHT
BEGIN:STANDARD
TZOFFSETFROM:-0400
TZOFFSETTO:-0500
TZNAME:EST
DTSTART:20251102T060000
END:STANDARD
END:VTIMEZONE
BEGIN:VEVENT
DTSTART;TZID=America/New_York:20250519T090000
DTEND;TZID=America/New_York:20250520T140000
DTSTAMP:20260420T215147
CREATED:20240223T185808Z
LAST-MODIFIED:20240223T185808Z
UID:52126-1747645200-1747749600@www.westwoodschools.org
SUMMARY:Final Exams (Grades 9 - 11)
DESCRIPTION:May 16th       1st period     9:00 – 11:00\n2nd period  12:00 – 2:00 \nMay 19th       3rd period      9:00 – 11:00\n4th period     12:00 – 2:00 \nMay 20th       5th period      9:00 – 11:00\n6th period    12:00 – 2:00
URL:https://www.westwoodschools.org/event/final-exams-grades-9-11-7/
LOCATION:255 Fuller Street\, Camilla\, GA\, 31730\, United States
ORGANIZER;CN="School%20wide%20events":MAILTO:mailto:westwoodschools.org_au73ecodmkt00utcltnd404f1k@group.calendar.google.com
END:VEVENT
BEGIN:VEVENT
DTSTART;TZID=America/New_York:20250520T180000
DTEND;TZID=America/New_York:20250520T200000
DTSTAMP:20260420T215147
CREATED:20240223T190134Z
LAST-MODIFIED:20240223T190134Z
UID:52130-1747764000-1747771200@www.westwoodschools.org
SUMMARY:Spring Athletic Banquet
DESCRIPTION:We will recognize our athletes that participated in Jr. Pro\, JV and varsity spring sports.
URL:https://www.westwoodschools.org/event/spring-athletic-banquet-2/
LOCATION:255 Fuller Street\, Camilla\, GA\, 31730\, United States
CATEGORIES:Sports
ORGANIZER;CN="School%20wide%20events":MAILTO:mailto:westwoodschools.org_au73ecodmkt00utcltnd404f1k@group.calendar.google.com
END:VEVENT
END:VCALENDAR