BEGIN:VCALENDAR
VERSION:2.0
PRODID:-//Westwood Schools - ECPv5.12.2//NONSGML v1.0//EN
CALSCALE:GREGORIAN
METHOD:PUBLISH
X-WR-CALNAME:Westwood Schools
X-ORIGINAL-URL:https://www.westwoodschools.org
X-WR-CALDESC:Events for Westwood Schools
BEGIN:VTIMEZONE
TZID:America/New_York
BEGIN:DAYLIGHT
TZOFFSETFROM:-0500
TZOFFSETTO:-0400
TZNAME:EDT
DTSTART:20250309T070000
END:DAYLIGHT
BEGIN:STANDARD
TZOFFSETFROM:-0400
TZOFFSETTO:-0500
TZNAME:EST
DTSTART:20251102T060000
END:STANDARD
END:VTIMEZONE
BEGIN:VEVENT
DTSTART;TZID=America/New_York:20250515T080000
DTEND;TZID=America/New_York:20250516T170000
DTSTAMP:20260420T132535
CREATED:20250221T163053Z
LAST-MODIFIED:20250512T151250Z
UID:53160-1747296000-1747414800@www.westwoodschools.org
SUMMARY:Varsity Baseball 2nd Round State @ David Emanuel - Click Here for Details
DESCRIPTION:Thursday:\nGame 1 – 2:00\nGame 2 – 4:30 \nFriday:\nGame 3 – 11:00 (if needed)
URL:https://www.westwoodschools.org/event/varsity-baseball-2nd-round-state-details-tba/
LOCATION:David Emanuel\, 602 N. 4th Street\, Stillmore\, GA\, 30464\, United States
CATEGORIES:Sports
ORGANIZER;CN="School%20wide%20events":MAILTO:mailto:westwoodschools.org_au73ecodmkt00utcltnd404f1k@group.calendar.google.com
END:VEVENT
BEGIN:VEVENT
DTSTART;TZID=America/New_York:20250516T090000
DTEND;TZID=America/New_York:20250516T140000
DTSTAMP:20260420T132535
CREATED:20240223T185704Z
LAST-MODIFIED:20240223T185728Z
UID:52124-1747386000-1747404000@www.westwoodschools.org
SUMMARY:Final Exams (Grades 9 - 11)
DESCRIPTION:May 16th       1st period     9:00 – 11:00\n2nd period  12:00 – 2:00 \nMay 19th       3rd period      9:00 – 11:00\n4th period     12:00 – 2:00 \nMay 20th       5th period      9:00 – 11:00\n6th period    12:00 – 2:00
URL:https://www.westwoodschools.org/event/final-exams-grades-9-11-6/
LOCATION:255 Fuller Street\, Camilla\, GA\, 31730\, United States
ORGANIZER;CN="School%20wide%20events":MAILTO:mailto:westwoodschools.org_au73ecodmkt00utcltnd404f1k@group.calendar.google.com
END:VEVENT
BEGIN:VEVENT
DTSTART;TZID=America/New_York:20250516T200000
DTEND;TZID=America/New_York:20250516T220000
DTSTAMP:20260420T132535
CREATED:20240223T185444Z
LAST-MODIFIED:20250516T124653Z
UID:52122-1747425600-1747432800@www.westwoodschools.org
SUMMARY:Graduation
DESCRIPTION:
URL:https://www.westwoodschools.org/event/graduation-6/
LOCATION:255 Fuller Street\, Camilla\, GA\, 31730\, United States
CATEGORIES:School Wide Events
ORGANIZER;CN="School%20wide%20events":MAILTO:mailto:westwoodschools.org_au73ecodmkt00utcltnd404f1k@group.calendar.google.com
END:VEVENT
END:VCALENDAR