BEGIN:VCALENDAR
VERSION:2.0
PRODID:-//Westwood Schools - ECPv5.12.2//NONSGML v1.0//EN
CALSCALE:GREGORIAN
METHOD:PUBLISH
X-WR-CALNAME:Westwood Schools
X-ORIGINAL-URL:https://www.westwoodschools.org
X-WR-CALDESC:Events for Westwood Schools
BEGIN:VTIMEZONE
TZID:America/New_York
BEGIN:DAYLIGHT
TZOFFSETFROM:-0500
TZOFFSETTO:-0400
TZNAME:EDT
DTSTART:20250309T070000
END:DAYLIGHT
BEGIN:STANDARD
TZOFFSETFROM:-0400
TZOFFSETTO:-0500
TZNAME:EST
DTSTART:20251102T060000
END:STANDARD
END:VTIMEZONE
BEGIN:VEVENT
DTSTART;TZID=America/New_York:20250221T080000
DTEND;TZID=America/New_York:20250222T170000
DTSTAMP:20260420T034114
CREATED:20250220T201825Z
LAST-MODIFIED:20250220T201825Z
UID:53065-1740124800-1740243600@www.westwoodschools.org
SUMMARY:Middle School Baseball Sherwood Tournament - Details TBA
DESCRIPTION:
URL:https://www.westwoodschools.org/event/middle-school-baseball-sherwood-tournament-details-tba/
LOCATION:Sherwood Christian Academy\, 1418 Old Pretoria Rd\, Albany\, GA\, 31721\, United States
CATEGORIES:Sports
ORGANIZER;CN="School%20wide%20events":MAILTO:mailto:westwoodschools.org_au73ecodmkt00utcltnd404f1k@group.calendar.google.com
END:VEVENT
BEGIN:VEVENT
DTSTART;TZID=America/New_York:20250222T090000
DTEND;TZID=America/New_York:20250222T140000
DTSTAMP:20260420T034114
CREATED:20250221T165424Z
LAST-MODIFIED:20250221T165424Z
UID:53170-1740214800-1740232800@www.westwoodschools.org
SUMMARY:Jr. Pro Baseball - Click Here for Details
DESCRIPTION:Coach Pitch\nWW vs. Crisp Academy 10am\nWW vs. Fullington Academy 1pm \nLive Arm\nWW vs. Grace 9am\nWW vs. Southland 10:30
URL:https://www.westwoodschools.org/event/jr-pro-baseball-click-here-for-details/
LOCATION:Bill Reynolds Sports Complex\, 1100 Cox Ave\, Bainbridge\, GA\, 39817\, United States
CATEGORIES:Sports
ORGANIZER;CN="School%20wide%20events":MAILTO:mailto:westwoodschools.org_au73ecodmkt00utcltnd404f1k@group.calendar.google.com
END:VEVENT
END:VCALENDAR