BEGIN:VCALENDAR
VERSION:2.0
PRODID:-//Westwood Schools - ECPv5.12.2//NONSGML v1.0//EN
CALSCALE:GREGORIAN
METHOD:PUBLISH
X-WR-CALNAME:Westwood Schools
X-ORIGINAL-URL:https://www.westwoodschools.org
X-WR-CALDESC:Events for Westwood Schools
BEGIN:VTIMEZONE
TZID:America/New_York
BEGIN:DAYLIGHT
TZOFFSETFROM:-0500
TZOFFSETTO:-0400
TZNAME:EDT
DTSTART:20250309T070000
END:DAYLIGHT
BEGIN:STANDARD
TZOFFSETFROM:-0400
TZOFFSETTO:-0500
TZNAME:EST
DTSTART:20251102T060000
END:STANDARD
END:VTIMEZONE
BEGIN:VEVENT
DTSTART;TZID=America/New_York:20250111T090000
DTEND;TZID=America/New_York:20250111T130000
DTSTAMP:20260419T232103
CREATED:20241206T174037Z
LAST-MODIFIED:20241206T174037Z
UID:52895-1736586000-1736600400@www.westwoodschools.org
SUMMARY:Wrestling Match @ Valwood
DESCRIPTION:
URL:https://www.westwoodschools.org/event/wrestling-match-valwood/
LOCATION:Valwood School\, 4380 Old US 41 N\, Hahira\, GA\, 31632\, United States
CATEGORIES:Sports
ORGANIZER;CN="School%20wide%20events":MAILTO:mailto:westwoodschools.org_au73ecodmkt00utcltnd404f1k@group.calendar.google.com
END:VEVENT
BEGIN:VEVENT
DTSTART;TZID=America/New_York:20250111T100000
DTEND;TZID=America/New_York:20250111T140000
DTSTAMP:20260419T232103
CREATED:20241210T173337Z
LAST-MODIFIED:20241210T173350Z
UID:52903-1736589600-1736604000@www.westwoodschools.org
SUMMARY:Jr. Pro Basketball @ Fullington - Click Here for Game Details
DESCRIPTION:Girls v. Crisp                10:00\nBoys v. Crisp                11:00\nGirls v. Fullington         12:00\nBoys v. Fullington          1:00
URL:https://www.westwoodschools.org/event/jr-pro-basketball-fullington-click-here-for-game-details/
LOCATION:Fullington Academy\, 264 Pine Avenue\, Pinehurst\, GA\, 31070\, United States
CATEGORIES:Sports
ORGANIZER;CN="School%20wide%20events":MAILTO:mailto:westwoodschools.org_au73ecodmkt00utcltnd404f1k@group.calendar.google.com
END:VEVENT
BEGIN:VEVENT
DTSTART;TZID=America/New_York:20250111T130000
DTEND;TZID=America/New_York:20250111T150000
DTSTAMP:20260419T232103
CREATED:20241106T173935Z
LAST-MODIFIED:20241106T173935Z
UID:52773-1736600400-1736607600@www.westwoodschools.org
SUMMARY:Middle School Basketball vs. Baker Co.
DESCRIPTION:
URL:https://www.westwoodschools.org/event/middle-school-basketball-vs-baker-co/
LOCATION:Westwood Schools\, 255 Fuller St\, Camilla\, GA\, 31730\, United States
CATEGORIES:Sports
ORGANIZER;CN="School%20wide%20events":MAILTO:mailto:westwoodschools.org_au73ecodmkt00utcltnd404f1k@group.calendar.google.com
END:VEVENT
BEGIN:VEVENT
DTSTART;TZID=America/New_York:20250111T170000
DTEND;TZID=America/New_York:20250111T200000
DTSTAMP:20260419T232103
CREATED:20250107T201826Z
LAST-MODIFIED:20250107T201826Z
UID:52929-1736614800-1736625600@www.westwoodschools.org
SUMMARY:2nd - 4th Grade Basketball - Click Here for Details
DESCRIPTION:Girls Blue v. Orange              5:00 \nBoys Blue v. White                6:00 \nBoys White v. Orange           7:00
URL:https://www.westwoodschools.org/event/2nd-4th-grade-basketball-click-here-for-details-2/
LOCATION:Hopeful Baptist Church\, 2655 Hwy 97\, Camilla\, GA\, 31730\, United States
CATEGORIES:Sports
ORGANIZER;CN="School%20wide%20events":MAILTO:mailto:westwoodschools.org_au73ecodmkt00utcltnd404f1k@group.calendar.google.com
END:VEVENT
END:VCALENDAR