BEGIN:VCALENDAR
VERSION:2.0
PRODID:-//Westwood Schools - ECPv5.12.2//NONSGML v1.0//EN
CALSCALE:GREGORIAN
METHOD:PUBLISH
X-WR-CALNAME:Westwood Schools
X-ORIGINAL-URL:https://www.westwoodschools.org
X-WR-CALDESC:Events for Westwood Schools
BEGIN:VTIMEZONE
TZID:America/New_York
BEGIN:DAYLIGHT
TZOFFSETFROM:-0500
TZOFFSETTO:-0400
TZNAME:EDT
DTSTART:20240310T070000
END:DAYLIGHT
BEGIN:STANDARD
TZOFFSETFROM:-0400
TZOFFSETTO:-0500
TZNAME:EST
DTSTART:20241103T060000
END:STANDARD
END:VTIMEZONE
BEGIN:VEVENT
DTSTART;VALUE=DATE:20241031
DTEND;VALUE=DATE:20241103
DTSTAMP:20260419T143832
CREATED:20240801T193804Z
LAST-MODIFIED:20240801T193804Z
UID:52532-1730332800-1730591999@www.westwoodschools.org
SUMMARY:Varsity Shotgun State Meet @ Forest City Gun Club
DESCRIPTION:
URL:https://www.westwoodschools.org/event/varsity-shotgun-state-meet-forest-city-gun-club/
LOCATION:Forest City Gun Club\, 9203 Ferguson Avenue\, Savannah\, GA\, 31406\, United States
CATEGORIES:Sports
ORGANIZER;CN="School%20wide%20events":MAILTO:mailto:westwoodschools.org_au73ecodmkt00utcltnd404f1k@group.calendar.google.com
END:VEVENT
BEGIN:VEVENT
DTSTART;TZID=America/New_York:20241101T193000
DTEND;TZID=America/New_York:20241101T213000
DTSTAMP:20260419T143832
CREATED:20241002T162239Z
LAST-MODIFIED:20241029T141205Z
UID:52706-1730489400-1730496600@www.westwoodschools.org
SUMMARY:Varsity Football @ Vidalia Heritage - Click Here For Location
DESCRIPTION:Game will be played at:\nMontgomery Co. High School\n701C Dobbins Street\nMt. Vernon\, GA
URL:https://www.westwoodschools.org/event/varsity-football-vs-vidalia-heritage-senior-night/
LOCATION:255 Fuller Street\, Camilla\, GA\, 31730\, United States
CATEGORIES:Sports
ORGANIZER;CN="School%20wide%20events":MAILTO:mailto:westwoodschools.org_au73ecodmkt00utcltnd404f1k@group.calendar.google.com
END:VEVENT
END:VCALENDAR