BEGIN:VCALENDAR
VERSION:2.0
PRODID:-//Westwood Schools - ECPv5.12.2//NONSGML v1.0//EN
CALSCALE:GREGORIAN
METHOD:PUBLISH
X-WR-CALNAME:Westwood Schools
X-ORIGINAL-URL:https://www.westwoodschools.org
X-WR-CALDESC:Events for Westwood Schools
BEGIN:VTIMEZONE
TZID:America/New_York
BEGIN:DAYLIGHT
TZOFFSETFROM:-0500
TZOFFSETTO:-0400
TZNAME:EDT
DTSTART:20240310T070000
END:DAYLIGHT
BEGIN:STANDARD
TZOFFSETFROM:-0400
TZOFFSETTO:-0500
TZNAME:EST
DTSTART:20241103T060000
END:STANDARD
END:VTIMEZONE
BEGIN:VEVENT
DTSTART;TZID=America/New_York:20241026T080000
DTEND;TZID=America/New_York:20241026T170000
DTSTAMP:20260419T185602
CREATED:20240624T185511Z
LAST-MODIFIED:20240624T191227Z
UID:52461-1729929600-1729962000@www.westwoodschools.org
SUMMARY:Varsity State Cross Country
DESCRIPTION:
URL:https://www.westwoodschools.org/event/varsity-state-cross-country/
LOCATION:First Presbyterian Day School\, 5671 Calvin Drive\, Macon\, GA\, 31210\, United States
CATEGORIES:Sports
ORGANIZER;CN="School%20wide%20events":MAILTO:mailto:westwoodschools.org_au73ecodmkt00utcltnd404f1k@group.calendar.google.com
END:VEVENT
BEGIN:VEVENT
DTSTART;TZID=America/New_York:20241026T090000
DTEND;TZID=America/New_York:20241026T140000
DTSTAMP:20260419T185602
CREATED:20240801T191215Z
LAST-MODIFIED:20240801T191215Z
UID:52530-1729933200-1729951200@www.westwoodschools.org
SUMMARY:Varsity Shotgun Meet @ Southwind Gun Club
DESCRIPTION:
URL:https://www.westwoodschools.org/event/varsity-shotgun-meet-southwind-gun-club/
LOCATION:Southwind Sporting Clays\, 16761 US 84\, Quitman\, GA\, 31643\, United States
CATEGORIES:Sports
ORGANIZER;CN="School%20wide%20events":MAILTO:mailto:westwoodschools.org_au73ecodmkt00utcltnd404f1k@group.calendar.google.com
END:VEVENT
BEGIN:VEVENT
DTSTART;TZID=America/New_York:20241026T160000
DTEND;TZID=America/New_York:20241026T190000
DTSTAMP:20260419T185602
CREATED:20240223T182718Z
LAST-MODIFIED:20241025T135219Z
UID:52080-1729958400-1729969200@www.westwoodschools.org
SUMMARY:Fall Festival - Click Here for Details
DESCRIPTION:
URL:https://www.westwoodschools.org/event/fall-festival-details-tba/
LOCATION:Westwood Schools\, 255 Fuller St\, Camilla\, GA\, 31730\, United States
CATEGORIES:School Wide Events
ORGANIZER;CN="School%20wide%20events":MAILTO:mailto:westwoodschools.org_au73ecodmkt00utcltnd404f1k@group.calendar.google.com
END:VEVENT
END:VCALENDAR