BEGIN:VCALENDAR
VERSION:2.0
PRODID:-//Westwood Schools - ECPv5.12.2//NONSGML v1.0//EN
CALSCALE:GREGORIAN
METHOD:PUBLISH
X-WR-CALNAME:Westwood Schools
X-ORIGINAL-URL:https://www.westwoodschools.org
X-WR-CALDESC:Events for Westwood Schools
BEGIN:VTIMEZONE
TZID:America/New_York
BEGIN:DAYLIGHT
TZOFFSETFROM:-0500
TZOFFSETTO:-0400
TZNAME:EDT
DTSTART:20240310T070000
END:DAYLIGHT
BEGIN:STANDARD
TZOFFSETFROM:-0400
TZOFFSETTO:-0500
TZNAME:EST
DTSTART:20241103T060000
END:STANDARD
END:VTIMEZONE
BEGIN:VEVENT
DTSTART;TZID=America/New_York:20240930T083000
DTEND;TZID=America/New_York:20240930T140000
DTSTAMP:20260419T185601
CREATED:20240822T144518Z
LAST-MODIFIED:20240918T160251Z
UID:52576-1727685000-1727704800@www.westwoodschools.org
SUMMARY:Blood Drive - Click Here for Details
DESCRIPTION:NHS members earn service time for donating and/or recruiting donors!\nContact Paige in the HS office to sign up.
URL:https://www.westwoodschools.org/event/blood-drive-14/
LOCATION:255 Fuller Street\, Camilla\, GA\, 31730\, United States
CATEGORIES:School Wide Events
ORGANIZER;CN="School%20wide%20events":MAILTO:mailto:westwoodschools.org_au73ecodmkt00utcltnd404f1k@group.calendar.google.com
END:VEVENT
BEGIN:VEVENT
DTSTART;TZID=America/New_York:20240930T160000
DTEND;TZID=America/New_York:20240930T173000
DTSTAMP:20260419T185601
CREATED:20240624T175507Z
LAST-MODIFIED:20240912T153411Z
UID:52420-1727712000-1727717400@www.westwoodschools.org
SUMMARY:Varsity Softball vs. SGA
DESCRIPTION:
URL:https://www.westwoodschools.org/event/varsity-softball-vs-sga-9/
LOCATION:Westwood Schools\, 255 Fuller St\, Camilla\, GA\, 31730\, United States
CATEGORIES:Sports
ORGANIZER;CN="School%20wide%20events":MAILTO:mailto:westwoodschools.org_au73ecodmkt00utcltnd404f1k@group.calendar.google.com
END:VEVENT
BEGIN:VEVENT
DTSTART;TZID=America/New_York:20240930T173000
DTEND;TZID=America/New_York:20240930T183000
DTSTAMP:20260419T185601
CREATED:20240624T172413Z
LAST-MODIFIED:20240912T152532Z
UID:52382-1727717400-1727721000@www.westwoodschools.org
SUMMARY:Middle School Softball vs. SGA
DESCRIPTION:
URL:https://www.westwoodschools.org/event/middle-school-softball-vs-sga/
LOCATION:Westwood Schools\, 255 Fuller St\, Camilla\, GA\, 31730\, United States
CATEGORIES:Sports
ORGANIZER;CN="School%20wide%20events":MAILTO:mailto:westwoodschools.org_au73ecodmkt00utcltnd404f1k@group.calendar.google.com
END:VEVENT
BEGIN:VEVENT
DTSTART;TZID=America/New_York:20240930T180000
DTEND;TZID=America/New_York:20240930T190000
DTSTAMP:20260419T185601
CREATED:20240909T162743Z
LAST-MODIFIED:20240909T162743Z
UID:52629-1727719200-1727722800@www.westwoodschools.org
SUMMARY:Sophomore/Junior Parent/Student Meeting - Auditorium
DESCRIPTION:Mrs. Dicksy meets with students and parents to go over important information that happens during 10th & 11th grade year.
URL:https://www.westwoodschools.org/event/sophomore-junior-parent-student-meeting-auditorium/
LOCATION:255 Fuller Street\, Camilla\, GA\, 31730\, United States
ORGANIZER;CN="School%20wide%20events":MAILTO:mailto:westwoodschools.org_au73ecodmkt00utcltnd404f1k@group.calendar.google.com
END:VEVENT
END:VCALENDAR