BEGIN:VCALENDAR
VERSION:2.0
PRODID:-//Westwood Schools - ECPv5.12.2//NONSGML v1.0//EN
CALSCALE:GREGORIAN
METHOD:PUBLISH
X-WR-CALNAME:Westwood Schools
X-ORIGINAL-URL:https://www.westwoodschools.org
X-WR-CALDESC:Events for Westwood Schools
BEGIN:VTIMEZONE
TZID:America/New_York
BEGIN:DAYLIGHT
TZOFFSETFROM:-0500
TZOFFSETTO:-0400
TZNAME:EDT
DTSTART:20230312T070000
END:DAYLIGHT
BEGIN:STANDARD
TZOFFSETFROM:-0400
TZOFFSETTO:-0500
TZNAME:EST
DTSTART:20231105T060000
END:STANDARD
END:VTIMEZONE
BEGIN:VEVENT
DTSTART;VALUE=DATE:20230425
DTEND;VALUE=DATE:20230427
DTSTAMP:20260424T134610
CREATED:20230123T185229Z
LAST-MODIFIED:20230424T180544Z
UID:50691-1682380800-1682553599@www.westwoodschools.org
SUMMARY:Varsity Tennis - State Team Tournament
DESCRIPTION:
URL:https://www.westwoodschools.org/event/varsity-tennis-state-team-tournament/
LOCATION:John Drew Smith Tennis Complex Macon\, 3280 North Ingle Place\, Macon\, GA\, 31730\, United States
CATEGORIES:Sports,Tennis
ORGANIZER;CN="School%20wide%20events":MAILTO:mailto:westwoodschools.org_au73ecodmkt00utcltnd404f1k@group.calendar.google.com
END:VEVENT
BEGIN:VEVENT
DTSTART;TZID=America/New_York:20230425T163000
DTEND;TZID=America/New_York:20230425T180000
DTSTAMP:20260424T134610
CREATED:20230117T190822Z
LAST-MODIFIED:20230117T190822Z
UID:50647-1682440200-1682445600@www.westwoodschools.org
SUMMARY:Varsity Baseball @ Citizens Christian
DESCRIPTION:
URL:https://www.westwoodschools.org/event/varsity-baseball-citizens-christian-2/
LOCATION:Citizens Christian\, 1575 GA Hwy 158 W\, Douglas\, GA\, 31535\, United States
CATEGORIES:Baseball,Sports
ORGANIZER;CN="School%20wide%20events":MAILTO:mailto:westwoodschools.org_au73ecodmkt00utcltnd404f1k@group.calendar.google.com
END:VEVENT
END:VCALENDAR