BEGIN:VCALENDAR
VERSION:2.0
PRODID:-//Westwood Schools - ECPv5.12.2//NONSGML v1.0//EN
CALSCALE:GREGORIAN
METHOD:PUBLISH
X-WR-CALNAME:Westwood Schools
X-ORIGINAL-URL:https://www.westwoodschools.org
X-WR-CALDESC:Events for Westwood Schools
BEGIN:VTIMEZONE
TZID:America/New_York
BEGIN:DAYLIGHT
TZOFFSETFROM:-0500
TZOFFSETTO:-0400
TZNAME:EDT
DTSTART:20230312T070000
END:DAYLIGHT
BEGIN:STANDARD
TZOFFSETFROM:-0400
TZOFFSETTO:-0500
TZNAME:EST
DTSTART:20231105T060000
END:STANDARD
END:VTIMEZONE
BEGIN:VEVENT
DTSTART;VALUE=DATE:20230424
DTEND;VALUE=DATE:20230425
DTSTAMP:20260424T134531
CREATED:20230413T180024Z
LAST-MODIFIED:20230413T180024Z
UID:50898-1682294400-1682380799@www.westwoodschools.org
SUMMARY:Golf State Tournament
DESCRIPTION:
URL:https://www.westwoodschools.org/event/golf-state-tournament/
LOCATION:Harbor Club\, 1111 Polo Circle\, Greensboro\, GA\, 30642\, United States
ORGANIZER;CN="School%20wide%20events":MAILTO:mailto:westwoodschools.org_au73ecodmkt00utcltnd404f1k@group.calendar.google.com
END:VEVENT
BEGIN:VEVENT
DTSTART;TZID=America/New_York:20230424T163000
DTEND;TZID=America/New_York:20230424T180000
DTSTAMP:20260424T134531
CREATED:20230117T190740Z
LAST-MODIFIED:20230117T190740Z
UID:50645-1682353800-1682359200@www.westwoodschools.org
SUMMARY:Varsity Baseball vs. Terrell
DESCRIPTION:
URL:https://www.westwoodschools.org/event/varsity-baseball-vs-terrell-6/
LOCATION:Westwood Schools\, 255 Fuller St\, Camilla\, GA\, 31730\, United States
CATEGORIES:Baseball,Sports
ORGANIZER;CN="School%20wide%20events":MAILTO:mailto:westwoodschools.org_au73ecodmkt00utcltnd404f1k@group.calendar.google.com
END:VEVENT
END:VCALENDAR