BEGIN:VCALENDAR
VERSION:2.0
PRODID:-//Westwood Schools - ECPv5.12.2//NONSGML v1.0//EN
CALSCALE:GREGORIAN
METHOD:PUBLISH
X-WR-CALNAME:Westwood Schools
X-ORIGINAL-URL:https://www.westwoodschools.org
X-WR-CALDESC:Events for Westwood Schools
BEGIN:VTIMEZONE
TZID:America/New_York
BEGIN:DAYLIGHT
TZOFFSETFROM:-0500
TZOFFSETTO:-0400
TZNAME:EDT
DTSTART:20230312T070000
END:DAYLIGHT
BEGIN:STANDARD
TZOFFSETFROM:-0400
TZOFFSETTO:-0500
TZNAME:EST
DTSTART:20231105T060000
END:STANDARD
END:VTIMEZONE
BEGIN:VEVENT
DTSTART;VALUE=DATE:20230417
DTEND;VALUE=DATE:20230419
DTSTAMP:20260424T114927
CREATED:20230123T185137Z
LAST-MODIFIED:20230123T185137Z
UID:50688-1681689600-1681862399@www.westwoodschools.org
SUMMARY:Varsity Tennis - State Individual Tournament
DESCRIPTION:Times TBA
URL:https://www.westwoodschools.org/event/varsity-tennis-state-individual-tournament/
LOCATION:Berry College\, 2277 Martha Berry Hwy NW\, Mt. Berry\, GA\, 30149\, United States
CATEGORIES:Sports,Tennis
ORGANIZER;CN="School%20wide%20events":MAILTO:mailto:westwoodschools.org_au73ecodmkt00utcltnd404f1k@group.calendar.google.com
END:VEVENT
BEGIN:VEVENT
DTSTART;TZID=America/New_York:20230417T080000
DTEND;TZID=America/New_York:20230420T120000
DTSTAMP:20260424T114927
CREATED:20220425T163354Z
LAST-MODIFIED:20230324T163654Z
UID:49682-1681718400-1681992000@www.westwoodschools.org
SUMMARY:ERB Testing (Grades 1-5)
DESCRIPTION:
URL:https://www.westwoodschools.org/event/erb-testing-grades-1-8-2/
LOCATION:255 Fuller Street\, Camilla\, GA\, 31730\, United States
ORGANIZER;CN="School%20wide%20events":MAILTO:mailto:westwoodschools.org_au73ecodmkt00utcltnd404f1k@group.calendar.google.com
END:VEVENT
BEGIN:VEVENT
DTSTART;TZID=America/New_York:20230417T080000
DTEND;TZID=America/New_York:20230419T120000
DTSTAMP:20260424T114927
CREATED:20230324T163733Z
LAST-MODIFIED:20230324T163733Z
UID:50880-1681718400-1681905600@www.westwoodschools.org
SUMMARY:ERB Testing (Grades 6-8)
DESCRIPTION:
URL:https://www.westwoodschools.org/event/erb-testing-grades-6-8/
LOCATION:255 Fuller Street\, Camilla\, GA\, 31730\, United States
ORGANIZER;CN="School%20wide%20events":MAILTO:mailto:westwoodschools.org_au73ecodmkt00utcltnd404f1k@group.calendar.google.com
END:VEVENT
BEGIN:VEVENT
DTSTART;TZID=America/New_York:20230417T160000
DTEND;TZID=America/New_York:20230417T173000
DTSTAMP:20260424T114927
CREATED:20230123T163110Z
LAST-MODIFIED:20230412T174402Z
UID:50658-1681747200-1681752600@www.westwoodschools.org
SUMMARY:Varsity Baseball vs. Chess Academy
DESCRIPTION:
URL:https://www.westwoodschools.org/event/varsity-baseball-vs-chess-academy/
LOCATION:Westwood Schools\, 255 Fuller St\, Camilla\, GA\, 31730\, United States
CATEGORIES:Baseball,Sports
ORGANIZER;CN="School%20wide%20events":MAILTO:mailto:westwoodschools.org_au73ecodmkt00utcltnd404f1k@group.calendar.google.com
END:VEVENT
END:VCALENDAR