BEGIN:VCALENDAR
VERSION:2.0
PRODID:-//Westwood Schools - ECPv5.12.2//NONSGML v1.0//EN
CALSCALE:GREGORIAN
METHOD:PUBLISH
X-WR-CALNAME:Westwood Schools
X-ORIGINAL-URL:https://www.westwoodschools.org
X-WR-CALDESC:Events for Westwood Schools
BEGIN:VTIMEZONE
TZID:America/New_York
BEGIN:DAYLIGHT
TZOFFSETFROM:-0500
TZOFFSETTO:-0400
TZNAME:EDT
DTSTART:20230312T070000
END:DAYLIGHT
BEGIN:STANDARD
TZOFFSETFROM:-0400
TZOFFSETTO:-0500
TZNAME:EST
DTSTART:20231105T060000
END:STANDARD
END:VTIMEZONE
BEGIN:VEVENT
DTSTART;TZID=America/New_York:20230411T100000
DTEND;TZID=America/New_York:20230411T160000
DTSTAMP:20260424T015942
CREATED:20230410T155605Z
LAST-MODIFIED:20230410T155605Z
UID:50890-1681207200-1681228800@www.westwoodschools.org
SUMMARY:Region Golf Tournament
DESCRIPTION:
URL:https://www.westwoodschools.org/event/region-golf-tournament/
LOCATION:Crooked Oak Golf Club\, 100 Clubhouse Dr\, Colquitt\, GA\, 39837\, United States
CATEGORIES:Sports
ORGANIZER;CN="School%20wide%20events":MAILTO:mailto:westwoodschools.org_au73ecodmkt00utcltnd404f1k@group.calendar.google.com
END:VEVENT
BEGIN:VEVENT
DTSTART;TZID=America/New_York:20230411T163000
DTEND;TZID=America/New_York:20230411T180000
DTSTAMP:20260424T015942
CREATED:20230117T190355Z
LAST-MODIFIED:20230117T190355Z
UID:50639-1681230600-1681236000@www.westwoodschools.org
SUMMARY:Varsity Baseball vs. SGA
DESCRIPTION:
URL:https://www.westwoodschools.org/event/varsity-baseball-vs-sga-7/
LOCATION:Westwood Schools\, 255 Fuller St\, Camilla\, GA\, 31730\, United States
CATEGORIES:Baseball,Sports
ORGANIZER;CN="School%20wide%20events":MAILTO:mailto:westwoodschools.org_au73ecodmkt00utcltnd404f1k@group.calendar.google.com
END:VEVENT
END:VCALENDAR