BEGIN:VCALENDAR
VERSION:2.0
PRODID:-//Westwood Schools - ECPv5.12.2//NONSGML v1.0//EN
CALSCALE:GREGORIAN
METHOD:PUBLISH
X-WR-CALNAME:Westwood Schools
X-ORIGINAL-URL:https://www.westwoodschools.org
X-WR-CALDESC:Events for Westwood Schools
BEGIN:VTIMEZONE
TZID:America/New_York
BEGIN:DAYLIGHT
TZOFFSETFROM:-0500
TZOFFSETTO:-0400
TZNAME:EDT
DTSTART:20230312T070000
END:DAYLIGHT
BEGIN:STANDARD
TZOFFSETFROM:-0400
TZOFFSETTO:-0500
TZNAME:EST
DTSTART:20231105T060000
END:STANDARD
END:VTIMEZONE
BEGIN:VEVENT
DTSTART;VALUE=DATE:20230308
DTEND;VALUE=DATE:20230309
DTSTAMP:20260424T120137
CREATED:20230112T193013Z
LAST-MODIFIED:20230120T143715Z
UID:50570-1678233600-1678319999@www.westwoodschools.org
SUMMARY:Region Literary - Times TBA
DESCRIPTION:
URL:https://www.westwoodschools.org/event/region-literary-times-tba/
LOCATION:ABAC\, 2802 Moore Hwy\, Tifton\, GA\, 31793\, United States
ORGANIZER;CN="School%20wide%20events":MAILTO:mailto:westwoodschools.org_au73ecodmkt00utcltnd404f1k@group.calendar.google.com
END:VEVENT
BEGIN:VEVENT
DTSTART;TZID=America/New_York:20230308T153000
DTEND;TZID=America/New_York:20230308T183000
DTSTAMP:20260424T120137
CREATED:20230207T153917Z
LAST-MODIFIED:20230207T153917Z
UID:50765-1678289400-1678300200@www.westwoodschools.org
SUMMARY:Varsity Track @ Tiftarea
DESCRIPTION:
URL:https://www.westwoodschools.org/event/varsity-track-tiftarea/
LOCATION:Tiftarea Academy\, 3144 US Hwy 41 N\, Chula\, GA\, 31793\, United States
CATEGORIES:Sports,Track/ Cross Country
ORGANIZER;CN="School%20wide%20events":MAILTO:mailto:westwoodschools.org_au73ecodmkt00utcltnd404f1k@group.calendar.google.com
END:VEVENT
END:VCALENDAR