BEGIN:VCALENDAR
VERSION:2.0
PRODID:-//Westwood Schools - ECPv5.12.2//NONSGML v1.0//EN
CALSCALE:GREGORIAN
METHOD:PUBLISH
X-WR-CALNAME:Westwood Schools
X-ORIGINAL-URL:https://www.westwoodschools.org
X-WR-CALDESC:Events for Westwood Schools
BEGIN:VTIMEZONE
TZID:America/New_York
BEGIN:DAYLIGHT
TZOFFSETFROM:-0500
TZOFFSETTO:-0400
TZNAME:EDT
DTSTART:20230312T070000
END:DAYLIGHT
BEGIN:STANDARD
TZOFFSETFROM:-0400
TZOFFSETTO:-0500
TZNAME:EST
DTSTART:20231105T060000
END:STANDARD
END:VTIMEZONE
BEGIN:VEVENT
DTSTART;TZID=America/New_York:20230117T170000
DTEND;TZID=America/New_York:20230117T200000
DTSTAMP:20260424T083709
CREATED:20221012T183117Z
LAST-MODIFIED:20221012T183117Z
UID:50234-1673974800-1673985600@www.westwoodschools.org
SUMMARY:Varsity Basketball @ Echols County
DESCRIPTION:
URL:https://www.westwoodschools.org/event/varsity-basketball-echols-county/
LOCATION:Echols Co High School\, 190 GA Hwy 94 East\, Statenville\, GA\, 31648\, United States
CATEGORIES:Basketball,Sports
ORGANIZER;CN="School%20wide%20events":MAILTO:mailto:westwoodschools.org_au73ecodmkt00utcltnd404f1k@group.calendar.google.com
END:VEVENT
END:VCALENDAR