BEGIN:VCALENDAR
VERSION:2.0
PRODID:-//Westwood Schools - ECPv5.12.2//NONSGML v1.0//EN
CALSCALE:GREGORIAN
METHOD:PUBLISH
X-WR-CALNAME:Westwood Schools
X-ORIGINAL-URL:https://www.westwoodschools.org
X-WR-CALDESC:Events for Westwood Schools
BEGIN:VTIMEZONE
TZID:America/New_York
BEGIN:DAYLIGHT
TZOFFSETFROM:-0500
TZOFFSETTO:-0400
TZNAME:EDT
DTSTART:20220313T070000
END:DAYLIGHT
BEGIN:STANDARD
TZOFFSETFROM:-0400
TZOFFSETTO:-0500
TZNAME:EST
DTSTART:20221106T060000
END:STANDARD
END:VTIMEZONE
BEGIN:VEVENT
DTSTART;TZID=America/New_York:20220523T080000
DTEND;TZID=America/New_York:20220523T090000
DTSTAMP:20260423T210448
CREATED:20210803T135738Z
LAST-MODIFIED:20210803T135738Z
UID:48908-1653292800-1653296400@www.westwoodschools.org
SUMMARY:K3 Graduation
DESCRIPTION:
URL:https://www.westwoodschools.org/event/k3-graduation-5/
LOCATION:255 Fuller Street\, Camilla\, GA\, 31730\, United States
CATEGORIES:Elementary Activities
ORGANIZER;CN="School%20wide%20events":MAILTO:mailto:westwoodschools.org_au73ecodmkt00utcltnd404f1k@group.calendar.google.com
END:VEVENT
BEGIN:VEVENT
DTSTART;TZID=America/New_York:20220523T090000
DTEND;TZID=America/New_York:20220524T140000
DTSTAMP:20260423T210448
CREATED:20210803T135636Z
LAST-MODIFIED:20220509T165504Z
UID:48905-1653296400-1653400800@www.westwoodschools.org
SUMMARY:2nd Semester Final Exams (Grades 9 - 11)
DESCRIPTION:May 20th – 9:00-11:00 (have to stay until 10:30) 1st period exam\n12:00-2:00 (have to stay until 1:30) 2nd period exam \nMay 23rd – 9:00-11:00 (have to stay until 10:30) 3rd period exam\n12:00-2:00 (have to stay until 1:30) 4th period exam \nMay 24th – 9:00-11:00 (have to stay until 10:30) 5th period exam\n12:00-2:00 (have to stay until 1:30) 6th period exam
URL:https://www.westwoodschools.org/event/2nd-semester-final-exams-grades-9-11-2/
LOCATION:255 Fuller Street\, Camilla\, GA\, 31730\, United States
ORGANIZER;CN="School%20wide%20events":MAILTO:mailto:westwoodschools.org_au73ecodmkt00utcltnd404f1k@group.calendar.google.com
END:VEVENT
BEGIN:VEVENT
DTSTART;TZID=America/New_York:20220523T103000
DTEND;TZID=America/New_York:20220523T113000
DTSTAMP:20260423T210448
CREATED:20210803T135823Z
LAST-MODIFIED:20210803T135823Z
UID:48910-1653301800-1653305400@www.westwoodschools.org
SUMMARY:K4 Graduation
DESCRIPTION:
URL:https://www.westwoodschools.org/event/k4-graduation-4/
LOCATION:255 Fuller Street\, Camilla\, GA\, 31730\, United States
CATEGORIES:Elementary Activities
ORGANIZER;CN="School%20wide%20events":MAILTO:mailto:westwoodschools.org_au73ecodmkt00utcltnd404f1k@group.calendar.google.com
END:VEVENT
BEGIN:VEVENT
DTSTART;TZID=America/New_York:20220523T190000
DTEND;TZID=America/New_York:20220523T200000
DTSTAMP:20260423T210448
CREATED:20210803T135910Z
LAST-MODIFIED:20210803T135910Z
UID:48913-1653332400-1653336000@www.westwoodschools.org
SUMMARY:K5 Graduation
DESCRIPTION:
URL:https://www.westwoodschools.org/event/k5-graduation-6/
LOCATION:255 Fuller Street\, Camilla\, GA\, 31730\, United States
CATEGORIES:Elementary Activities
ORGANIZER;CN="School%20wide%20events":MAILTO:mailto:westwoodschools.org_au73ecodmkt00utcltnd404f1k@group.calendar.google.com
END:VEVENT
END:VCALENDAR