BEGIN:VCALENDAR
VERSION:2.0
PRODID:-//Westwood Schools - ECPv5.12.2//NONSGML v1.0//EN
CALSCALE:GREGORIAN
METHOD:PUBLISH
X-WR-CALNAME:Westwood Schools
X-ORIGINAL-URL:https://www.westwoodschools.org
X-WR-CALDESC:Events for Westwood Schools
BEGIN:VTIMEZONE
TZID:America/New_York
BEGIN:DAYLIGHT
TZOFFSETFROM:-0500
TZOFFSETTO:-0400
TZNAME:EDT
DTSTART:20190310T070000
END:DAYLIGHT
BEGIN:STANDARD
TZOFFSETFROM:-0400
TZOFFSETTO:-0500
TZNAME:EST
DTSTART:20191103T060000
END:STANDARD
END:VTIMEZONE
BEGIN:VEVENT
DTSTART;TZID=America/New_York:20191017T120000
DTEND;TZID=America/New_York:20191017T180000
DTSTAMP:20260423T230857
CREATED:20191007T151307Z
LAST-MODIFIED:20191015T185907Z
UID:46803-1571313600-1571335200@www.westwoodschools.org
SUMMARY:Varsity Softball Lady Cats host Edmund Burke\, Round 1 State Playoff
DESCRIPTION:Round 1 – State Playoff Best 2 out of 3 Games\nGame Times:  12:00\,2:00 and if needed 4:00\nAdmission $8 – Adults\, $6 – Students\nGISA Passes Only
URL:https://www.westwoodschools.org/event/varsity-softball-vs-edmund-burke/
LOCATION:Westwood Schools\, 255 Fuller St\, Camilla\, GA\, 31730\, United States
ORGANIZER;CN="School%20wide%20events":MAILTO:mailto:westwoodschools.org_au73ecodmkt00utcltnd404f1k@group.calendar.google.com
END:VEVENT
END:VCALENDAR