BEGIN:VCALENDAR
VERSION:2.0
PRODID:-//Westwood Schools - ECPv5.12.2//NONSGML v1.0//EN
CALSCALE:GREGORIAN
METHOD:PUBLISH
X-WR-CALNAME:Westwood Schools
X-ORIGINAL-URL:https://www.westwoodschools.org
X-WR-CALDESC:Events for Westwood Schools
BEGIN:VTIMEZONE
TZID:America/New_York
BEGIN:DAYLIGHT
TZOFFSETFROM:-0500
TZOFFSETTO:-0400
TZNAME:EDT
DTSTART:20160313T070000
END:DAYLIGHT
BEGIN:STANDARD
TZOFFSETFROM:-0400
TZOFFSETTO:-0500
TZNAME:EST
DTSTART:20161106T060000
END:STANDARD
END:VTIMEZONE
BEGIN:VEVENT
DTSTART;VALUE=DATE:20161215
DTEND;VALUE=DATE:20161217
DTSTAMP:20260425T213225
CREATED:20160915T194153Z
LAST-MODIFIED:20160915T194153Z
UID:1128-1481828400-1481914799@www.westwoodschools.org
SUMMARY:White Christmas Dismiss Noon-NO DAYCARE
DESCRIPTION:
URL:https://www.westwoodschools.org/event/white-christmas-dismiss-noon-no-daycare/
CATEGORIES:School Wide Events
END:VEVENT
END:VCALENDAR