BEGIN:VCALENDAR
VERSION:2.0
PRODID:-//Westwood Schools - ECPv5.12.2//NONSGML v1.0//EN
CALSCALE:GREGORIAN
METHOD:PUBLISH
X-WR-CALNAME:Westwood Schools
X-ORIGINAL-URL:https://www.westwoodschools.org
X-WR-CALDESC:Events for Westwood Schools
BEGIN:VTIMEZONE
TZID:America/New_York
BEGIN:DAYLIGHT
TZOFFSETFROM:-0500
TZOFFSETTO:-0400
TZNAME:EDT
DTSTART:20170312T070000
END:DAYLIGHT
BEGIN:STANDARD
TZOFFSETFROM:-0400
TZOFFSETTO:-0500
TZNAME:EST
DTSTART:20171105T060000
END:STANDARD
END:VTIMEZONE
BEGIN:VEVENT
DTSTART;TZID=America/New_York:20170410T153000
DTEND;TZID=America/New_York:20170410T180000
DTSTAMP:20260422T100920
CREATED:20170313T203033Z
LAST-MODIFIED:20170410T204543Z
UID:3580-1491838200-1491847200@www.westwoodschools.org
SUMMARY:Varsity Tennis
DESCRIPTION:
URL:https://www.westwoodschools.org/event/varsity-tennis-8/
CATEGORIES:Tennis
END:VEVENT
END:VCALENDAR