BEGIN:VCALENDAR
VERSION:2.0
PRODID:-//Westwood Schools - ECPv5.12.2//NONSGML v1.0//EN
CALSCALE:GREGORIAN
METHOD:PUBLISH
X-WR-CALNAME:Westwood Schools
X-ORIGINAL-URL:https://www.westwoodschools.org
X-WR-CALDESC:Events for Westwood Schools
BEGIN:VTIMEZONE
TZID:America/New_York
BEGIN:DAYLIGHT
TZOFFSETFROM:-0500
TZOFFSETTO:-0400
TZNAME:EDT
DTSTART:20210314T070000
END:DAYLIGHT
BEGIN:STANDARD
TZOFFSETFROM:-0400
TZOFFSETTO:-0500
TZNAME:EST
DTSTART:20211107T060000
END:STANDARD
END:VTIMEZONE
BEGIN:VEVENT
DTSTART;TZID=America/New_York:20211007T180000
DTEND;TZID=America/New_York:20211007T190000
DTSTAMP:20260419T232406
CREATED:20210802T212851Z
LAST-MODIFIED:20211006T142334Z
UID:48839-1633629600-1633633200@www.westwoodschools.org
SUMMARY:Varsity Softball @ Seminole Co HS
DESCRIPTION:
URL:https://www.westwoodschools.org/event/varsity-softball-seminole-co-hs/
LOCATION:Seminole County HS\, 5582 GA-39\, Donalsonville\, GA\, 39845\, United States
CATEGORIES:Softball,Sports
ORGANIZER;CN="School%20wide%20events":MAILTO:mailto:westwoodschools.org_au73ecodmkt00utcltnd404f1k@group.calendar.google.com
END:VEVENT
END:VCALENDAR