BEGIN:VCALENDAR
VERSION:2.0
PRODID:-//Westwood Schools - ECPv5.12.2//NONSGML v1.0//EN
CALSCALE:GREGORIAN
METHOD:PUBLISH
X-WR-CALNAME:Westwood Schools
X-ORIGINAL-URL:https://www.westwoodschools.org
X-WR-CALDESC:Events for Westwood Schools
BEGIN:VTIMEZONE
TZID:America/New_York
BEGIN:DAYLIGHT
TZOFFSETFROM:-0500
TZOFFSETTO:-0400
TZNAME:EDT
DTSTART:20210314T070000
END:DAYLIGHT
BEGIN:STANDARD
TZOFFSETFROM:-0400
TZOFFSETTO:-0500
TZNAME:EST
DTSTART:20211107T060000
END:STANDARD
END:VTIMEZONE
BEGIN:VEVENT
DTSTART;TZID=America/New_York:20210323T153000
DTEND;TZID=America/New_York:20210323T183000
DTSTAMP:20260419T111550
CREATED:20210127T153953Z
LAST-MODIFIED:20210218T154129Z
UID:48290-1616513400-1616524200@www.westwoodschools.org
SUMMARY:Varsity Tennis vs. Terrell
DESCRIPTION:
URL:https://www.westwoodschools.org/event/varsity-jv-tennis-vs-terrell/
LOCATION:Mitchell County Tennis Center\, 499 Industrial Blvd\, Camilla\, GA\, 31730\, United States
CATEGORIES:Sports,Tennis
ORGANIZER;CN="School%20wide%20events":MAILTO:mailto:westwoodschools.org_au73ecodmkt00utcltnd404f1k@group.calendar.google.com
END:VEVENT
END:VCALENDAR