BEGIN:VCALENDAR
VERSION:2.0
PRODID:-//Westwood Schools - ECPv5.12.2//NONSGML v1.0//EN
CALSCALE:GREGORIAN
METHOD:PUBLISH
X-WR-CALNAME:Westwood Schools
X-ORIGINAL-URL:https://www.westwoodschools.org
X-WR-CALDESC:Events for Westwood Schools
BEGIN:VTIMEZONE
TZID:America/New_York
BEGIN:DAYLIGHT
TZOFFSETFROM:-0500
TZOFFSETTO:-0400
TZNAME:EDT
DTSTART:20200308T070000
END:DAYLIGHT
BEGIN:STANDARD
TZOFFSETFROM:-0400
TZOFFSETTO:-0500
TZNAME:EST
DTSTART:20201101T060000
END:STANDARD
END:VTIMEZONE
BEGIN:VEVENT
DTSTART;TZID=America/New_York:20200228T163000
DTEND;TZID=America/New_York:20200228T180000
DTSTAMP:20260421T111310
CREATED:20200224T190259Z
LAST-MODIFIED:20200226T165956Z
UID:47226-1582907400-1582912800@www.westwoodschools.org
SUMMARY:Varsity Girls Basketball vs. Brentwood - State AA Semi-Finals
DESCRIPTION:Admission:\nAdults – $15\nStudents – $10\nGISA Passes Only
URL:https://www.westwoodschools.org/event/varsity-girls-basketball-vs-brentwood-state-aa-semi-finals/
LOCATION:Georgia Southwestern State University\, 800 Georgia Southwestern State University Drive\, Americus\, GA\, 31709\, United States
ORGANIZER;CN="School%20wide%20events":MAILTO:mailto:westwoodschools.org_au73ecodmkt00utcltnd404f1k@group.calendar.google.com
END:VEVENT
END:VCALENDAR