BEGIN:VCALENDAR
VERSION:2.0
PRODID:-//Westwood Schools - ECPv5.12.2//NONSGML v1.0//EN
CALSCALE:GREGORIAN
METHOD:PUBLISH
X-WR-CALNAME:Westwood Schools
X-ORIGINAL-URL:https://www.westwoodschools.org
X-WR-CALDESC:Events for Westwood Schools
BEGIN:VTIMEZONE
TZID:America/New_York
BEGIN:DAYLIGHT
TZOFFSETFROM:-0500
TZOFFSETTO:-0400
TZNAME:EDT
DTSTART:20170312T070000
END:DAYLIGHT
BEGIN:STANDARD
TZOFFSETFROM:-0400
TZOFFSETTO:-0500
TZNAME:EST
DTSTART:20171105T060000
END:STANDARD
END:VTIMEZONE
BEGIN:VEVENT
DTSTART;TZID=America/New_York:20170915T193000
DTEND;TZID=America/New_York:20170915T223000
DTSTAMP:20260425T232329
CREATED:20170527T030448Z
LAST-MODIFIED:20170830T170011Z
UID:13395-1505503800-1505514600@www.westwoodschools.org
SUMMARY:Varsity Football @ Brookwood
DESCRIPTION:
URL:https://www.westwoodschools.org/event/varsity-football-brookwood/
LOCATION:Brookwood School\, 301 Cardinal Ridge Rd\, Thomasville\, GA\, 31792\, United States
CATEGORIES:Football
END:VEVENT
END:VCALENDAR