BEGIN:VCALENDAR
VERSION:2.0
PRODID:-//Westwood Schools - ECPv5.12.2//NONSGML v1.0//EN
CALSCALE:GREGORIAN
METHOD:PUBLISH
X-WR-CALNAME:Westwood Schools
X-ORIGINAL-URL:https://www.westwoodschools.org
X-WR-CALDESC:Events for Westwood Schools
BEGIN:VTIMEZONE
TZID:America/New_York
BEGIN:DAYLIGHT
TZOFFSETFROM:-0500
TZOFFSETTO:-0400
TZNAME:EDT
DTSTART:20200308T070000
END:DAYLIGHT
BEGIN:STANDARD
TZOFFSETFROM:-0400
TZOFFSETTO:-0500
TZNAME:EST
DTSTART:20201101T060000
END:STANDARD
END:VTIMEZONE
BEGIN:VEVENT
DTSTART;TZID=America/New_York:20200121T170000
DTEND;TZID=America/New_York:20200121T213000
DTSTAMP:20260424T002349
CREATED:20191001T162052Z
LAST-MODIFIED:20200121T180735Z
UID:46751-1579626000-1579642200@www.westwoodschools.org
SUMMARY:Varsity Basketball @ SGA
DESCRIPTION:B-Team Boys @ 5:00\nVarsity @ 6:30
URL:https://www.westwoodschools.org/event/varsity-basketball-sga-3/
LOCATION:Southwest Georgia Academy\, 14105 GA Hwy 200\, Damascus\, GA\, 39841\, United States
ORGANIZER;CN="School%20wide%20events":MAILTO:mailto:westwoodschools.org_au73ecodmkt00utcltnd404f1k@group.calendar.google.com
END:VEVENT
END:VCALENDAR