BEGIN:VCALENDAR
VERSION:2.0
PRODID:-//Westwood Schools - ECPv5.12.2//NONSGML v1.0//EN
CALSCALE:GREGORIAN
METHOD:PUBLISH
X-WR-CALNAME:Westwood Schools
X-ORIGINAL-URL:https://www.westwoodschools.org
X-WR-CALDESC:Events for Westwood Schools
BEGIN:VTIMEZONE
TZID:America/New_York
BEGIN:DAYLIGHT
TZOFFSETFROM:-0500
TZOFFSETTO:-0400
TZNAME:EDT
DTSTART:20170312T070000
END:DAYLIGHT
BEGIN:STANDARD
TZOFFSETFROM:-0400
TZOFFSETTO:-0500
TZNAME:EST
DTSTART:20171105T060000
END:STANDARD
END:VTIMEZONE
BEGIN:VEVENT
DTSTART;VALUE=DATE:20170417
DTEND;VALUE=DATE:20170418
DTSTAMP:20260423T104753
CREATED:20170329T184912Z
LAST-MODIFIED:20170417T213040Z
UID:7343-1492387200-1492473599@www.westwoodschools.org
SUMMARY:State Individual Tennis
DESCRIPTION:
URL:https://www.westwoodschools.org/event/state-individual-tennis/
LOCATION:John Drew Smith Tennis Complex Macon\, 3280 North Ingle Place\, Macon\, GA\, 31730\, United States
CATEGORIES:Tennis
END:VEVENT
END:VCALENDAR