BEGIN:VCALENDAR
VERSION:2.0
PRODID:-//Westwood Schools - ECPv5.12.2//NONSGML v1.0//EN
CALSCALE:GREGORIAN
METHOD:PUBLISH
X-WR-CALNAME:Westwood Schools
X-ORIGINAL-URL:https://www.westwoodschools.org
X-WR-CALDESC:Events for Westwood Schools
BEGIN:VTIMEZONE
TZID:America/New_York
BEGIN:DAYLIGHT
TZOFFSETFROM:-0500
TZOFFSETTO:-0400
TZNAME:EDT
DTSTART:20180311T070000
END:DAYLIGHT
BEGIN:STANDARD
TZOFFSETFROM:-0400
TZOFFSETTO:-0500
TZNAME:EST
DTSTART:20181104T060000
END:STANDARD
END:VTIMEZONE
BEGIN:VEVENT
DTSTART;VALUE=DATE:20180406
DTEND;VALUE=DATE:20180407
DTSTAMP:20260422T061010
CREATED:20170526T163409Z
LAST-MODIFIED:20180208T163148Z
UID:13280-1522972800-1523059199@www.westwoodschools.org
SUMMARY:Spring Break
DESCRIPTION:This event has a Google Hangouts video call.\nJoin: https://plus.google.com/hangouts/_/westwoodschools.org/spring-break?hceid=d2VzdHdvb2RzY2hvb2xzLm9yZ19hdTczZWNvZG1rdDAwdXRjbHRuZDQwNGYxa0Bncm91cC5jYWxlbmRhci5nb29nbGUuY29t.v5pj57tigndvuqcs6hks718uf8&hs=121
URL:https://www.westwoodschools.org/event/spring-break-7/
CATEGORIES:School Wide Events
END:VEVENT
END:VCALENDAR