BEGIN:VCALENDAR
VERSION:2.0
PRODID:-//Westwood Schools - ECPv5.12.2//NONSGML v1.0//EN
CALSCALE:GREGORIAN
METHOD:PUBLISH
X-WR-CALNAME:Westwood Schools
X-ORIGINAL-URL:https://www.westwoodschools.org
X-WR-CALDESC:Events for Westwood Schools
BEGIN:VTIMEZONE
TZID:America/New_York
BEGIN:DAYLIGHT
TZOFFSETFROM:-0500
TZOFFSETTO:-0400
TZNAME:EDT
DTSTART:20230312T070000
END:DAYLIGHT
BEGIN:STANDARD
TZOFFSETFROM:-0400
TZOFFSETTO:-0500
TZNAME:EST
DTSTART:20231105T060000
END:STANDARD
END:VTIMEZONE
BEGIN:VEVENT
DTSTART;TZID=America/New_York:20230822T180000
DTEND;TZID=America/New_York:20230822T190000
DTSTAMP:20260424T094143
CREATED:20230619T183338Z
LAST-MODIFIED:20230717T175543Z
UID:51097-1692727200-1692730800@www.westwoodschools.org
SUMMARY:PTO Fundraiser - Click Here For Details
DESCRIPTION:We will have a PTO Fundraiser night at Kebo’s on August 22 from 5:00-8:00. They are going to donate a percentage of sales from that night to PTO. There will be a table set up with information about joining and volunteering.  Come learn about Westwood’s PTO and feed your family\, too! \nWe are looking forward to meeting all of you!
URL:https://www.westwoodschools.org/event/pto-meeting-auditorium-3/
LOCATION:255 Fuller Street\, Camilla\, GA\, 31730\, United States
CATEGORIES:School Wide Events
ORGANIZER;CN="School%20wide%20events":MAILTO:mailto:westwoodschools.org_au73ecodmkt00utcltnd404f1k@group.calendar.google.com
END:VEVENT
END:VCALENDAR