BEGIN:VCALENDAR
VERSION:2.0
PRODID:-//Westwood Schools - ECPv5.12.2//NONSGML v1.0//EN
CALSCALE:GREGORIAN
METHOD:PUBLISH
X-WR-CALNAME:Westwood Schools
X-ORIGINAL-URL:https://www.westwoodschools.org
X-WR-CALDESC:Events for Westwood Schools
BEGIN:VTIMEZONE
TZID:America/New_York
BEGIN:DAYLIGHT
TZOFFSETFROM:-0500
TZOFFSETTO:-0400
TZNAME:EDT
DTSTART:20220313T070000
END:DAYLIGHT
BEGIN:STANDARD
TZOFFSETFROM:-0400
TZOFFSETTO:-0500
TZNAME:EST
DTSTART:20221106T060000
END:STANDARD
END:VTIMEZONE
BEGIN:VEVENT
DTSTART;TZID=America/New_York:20220509T081500
DTEND;TZID=America/New_York:20220509T093000
DTSTAMP:20260423T210316
CREATED:20210803T135018Z
LAST-MODIFIED:20220425T173502Z
UID:48893-1652084100-1652088600@www.westwoodschools.org
SUMMARY:Middle School Academic Assembly - Click Here for Information
DESCRIPTION:Parents will be notified by email.
URL:https://www.westwoodschools.org/event/middle-school-academic-assembly-7/
LOCATION:255 Fuller Street\, Camilla\, GA\, 31730\, United States
ORGANIZER;CN="School%20wide%20events":MAILTO:mailto:westwoodschools.org_au73ecodmkt00utcltnd404f1k@group.calendar.google.com
END:VEVENT
END:VCALENDAR