BEGIN:VCALENDAR
VERSION:2.0
PRODID:-//Westwood Schools - ECPv5.12.2//NONSGML v1.0//EN
CALSCALE:GREGORIAN
METHOD:PUBLISH
X-WR-CALNAME:Westwood Schools
X-ORIGINAL-URL:https://www.westwoodschools.org
X-WR-CALDESC:Events for Westwood Schools
BEGIN:VTIMEZONE
TZID:America/New_York
BEGIN:DAYLIGHT
TZOFFSETFROM:-0500
TZOFFSETTO:-0400
TZNAME:EDT
DTSTART:20110313T070000
END:DAYLIGHT
BEGIN:STANDARD
TZOFFSETFROM:-0400
TZOFFSETTO:-0500
TZNAME:EST
DTSTART:20111106T060000
END:STANDARD
END:VTIMEZONE
BEGIN:VEVENT
DTSTART;TZID=America/New_York:20110523T193000
DTEND;TZID=America/New_York:20110523T210000
DTSTAMP:20260421T181238
CREATED:20160915T195456Z
LAST-MODIFIED:20160915T195456Z
UID:1585-1306179000-1306184400@www.westwoodschools.org
SUMMARY:K-4 Graduation
DESCRIPTION:
URL:https://www.westwoodschools.org/event/k-4-graduation/
CATEGORIES:School Wide Events
END:VEVENT
END:VCALENDAR