BEGIN:VCALENDAR
VERSION:2.0
PRODID:-//Westwood Schools - ECPv5.12.2//NONSGML v1.0//EN
CALSCALE:GREGORIAN
METHOD:PUBLISH
X-WR-CALNAME:Westwood Schools
X-ORIGINAL-URL:https://www.westwoodschools.org
X-WR-CALDESC:Events for Westwood Schools
BEGIN:VTIMEZONE
TZID:America/New_York
BEGIN:DAYLIGHT
TZOFFSETFROM:-0500
TZOFFSETTO:-0400
TZNAME:EDT
DTSTART:20180311T070000
END:DAYLIGHT
BEGIN:STANDARD
TZOFFSETFROM:-0400
TZOFFSETTO:-0500
TZNAME:EST
DTSTART:20181104T060000
END:STANDARD
END:VTIMEZONE
BEGIN:VEVENT
DTSTART;TZID=America/New_York:20180416T093000
DTEND;TZID=America/New_York:20180416T173000
DTSTAMP:20260423T182011
CREATED:20180126T113019Z
LAST-MODIFIED:20180411T111650Z
UID:36977-1523871000-1523899800@www.westwoodschools.org
SUMMARY:JV Region Track Meet
DESCRIPTION:
URL:https://www.westwoodschools.org/event/jv-region-track-meet/
CATEGORIES:Track/ Cross Country
END:VEVENT
END:VCALENDAR