BEGIN:VCALENDAR
VERSION:2.0
PRODID:-//Westwood Schools - ECPv5.12.2//NONSGML v1.0//EN
CALSCALE:GREGORIAN
METHOD:PUBLISH
X-WR-CALNAME:Westwood Schools
X-ORIGINAL-URL:https://www.westwoodschools.org
X-WR-CALDESC:Events for Westwood Schools
BEGIN:VTIMEZONE
TZID:America/New_York
BEGIN:DAYLIGHT
TZOFFSETFROM:-0500
TZOFFSETTO:-0400
TZNAME:EDT
DTSTART:20210314T070000
END:DAYLIGHT
BEGIN:STANDARD
TZOFFSETFROM:-0400
TZOFFSETTO:-0500
TZNAME:EST
DTSTART:20211107T060000
END:STANDARD
END:VTIMEZONE
BEGIN:VEVENT
DTSTART;TZID=America/New_York:20210129T170000
DTEND;TZID=America/New_York:20210129T180000
DTSTAMP:20260421T064638
CREATED:20210114T191710Z
LAST-MODIFIED:20210114T191710Z
UID:48250-1611939600-1611943200@www.westwoodschools.org
SUMMARY:JV Basketball vs. SGA (Boys Only)
DESCRIPTION:
URL:https://www.westwoodschools.org/event/jv-basketball-vs-sga-boys-only/
LOCATION:255 Fuller Street\, Camilla\, GA\, 31730\, United States
CATEGORIES:JV Basketball,Sports
ORGANIZER;CN="School%20wide%20events":MAILTO:mailto:westwoodschools.org_au73ecodmkt00utcltnd404f1k@group.calendar.google.com
END:VEVENT
END:VCALENDAR