BEGIN:VCALENDAR
VERSION:2.0
PRODID:-//Westwood Schools - ECPv5.12.2//NONSGML v1.0//EN
CALSCALE:GREGORIAN
METHOD:PUBLISH
X-WR-CALNAME:Westwood Schools
X-ORIGINAL-URL:https://www.westwoodschools.org
X-WR-CALDESC:Events for Westwood Schools
BEGIN:VTIMEZONE
TZID:America/New_York
BEGIN:DAYLIGHT
TZOFFSETFROM:-0500
TZOFFSETTO:-0400
TZNAME:EDT
DTSTART:20170312T070000
END:DAYLIGHT
BEGIN:STANDARD
TZOFFSETFROM:-0400
TZOFFSETTO:-0500
TZNAME:EST
DTSTART:20171105T060000
END:STANDARD
END:VTIMEZONE
BEGIN:VEVENT
DTSTART;TZID=America/New_York:20170410T160000
DTEND;TZID=America/New_York:20170410T183000
DTSTAMP:20260422T062012
CREATED:20170321T173118Z
LAST-MODIFIED:20170410T230116Z
UID:5255-1491840000-1491849000@www.westwoodschools.org
SUMMARY:JV Baseball
DESCRIPTION:Westwood vs. SGA
URL:https://www.westwoodschools.org/event/jv-baseball-3/
LOCATION:Westwood Schools\, 255 Fuller St\, Camilla\, GA\, 31730\, United States
CATEGORIES:JV Baseball
END:VEVENT
END:VCALENDAR