BEGIN:VCALENDAR
VERSION:2.0
PRODID:-//Westwood Schools - ECPv5.12.2//NONSGML v1.0//EN
CALSCALE:GREGORIAN
METHOD:PUBLISH
X-WR-CALNAME:Westwood Schools
X-ORIGINAL-URL:https://www.westwoodschools.org
X-WR-CALDESC:Events for Westwood Schools
BEGIN:VTIMEZONE
TZID:America/New_York
BEGIN:DAYLIGHT
TZOFFSETFROM:-0500
TZOFFSETTO:-0400
TZNAME:EDT
DTSTART:20170312T070000
END:DAYLIGHT
BEGIN:STANDARD
TZOFFSETFROM:-0400
TZOFFSETTO:-0500
TZNAME:EST
DTSTART:20171105T060000
END:STANDARD
END:VTIMEZONE
BEGIN:VEVENT
DTSTART;TZID=America/New_York:20171201T160000
DTEND;TZID=America/New_York:20171201T180000
DTSTAMP:20260425T064345
CREATED:20171101T030019Z
LAST-MODIFIED:20171127T072348Z
UID:30163-1512144000-1512151200@www.westwoodschools.org
SUMMARY:JV B-Ball vs. Brookwood
DESCRIPTION:
URL:https://www.westwoodschools.org/event/jv-b-ball-vs-brookwood/
LOCATION:Westwood Schools\, 255 Fuller St\, Camilla\, GA\, 31730\, United States
CATEGORIES:JV Basketball
END:VEVENT
END:VCALENDAR