BEGIN:VCALENDAR
VERSION:2.0
PRODID:-//Westwood Schools - ECPv5.12.2//NONSGML v1.0//EN
CALSCALE:GREGORIAN
METHOD:PUBLISH
X-WR-CALNAME:Westwood Schools
X-ORIGINAL-URL:https://www.westwoodschools.org
X-WR-CALDESC:Events for Westwood Schools
BEGIN:VTIMEZONE
TZID:America/New_York
BEGIN:DAYLIGHT
TZOFFSETFROM:-0500
TZOFFSETTO:-0400
TZNAME:EDT
DTSTART:20170312T070000
END:DAYLIGHT
BEGIN:STANDARD
TZOFFSETFROM:-0400
TZOFFSETTO:-0500
TZNAME:EST
DTSTART:20171105T060000
END:STANDARD
END:VTIMEZONE
BEGIN:VEVENT
DTSTART;TZID=America/New_York:20170224T173000
DTEND;TZID=America/New_York:20170224T190000
DTSTAMP:20260424T223659
CREATED:20170313T193850Z
LAST-MODIFIED:20170313T193850Z
UID:3541-1487957400-1487962800@www.westwoodschools.org
SUMMARY:Girls Basketball State Tournament
DESCRIPTION:Westwood vs. Flint River
URL:https://www.westwoodschools.org/event/girls-basketball-state-tournament/
CATEGORIES:Basketball
END:VEVENT
END:VCALENDAR