BEGIN:VCALENDAR
VERSION:2.0
PRODID:-//Westwood Schools - ECPv5.12.2//NONSGML v1.0//EN
CALSCALE:GREGORIAN
METHOD:PUBLISH
X-WR-CALNAME:Westwood Schools
X-ORIGINAL-URL:https://www.westwoodschools.org
X-WR-CALDESC:Events for Westwood Schools
BEGIN:VTIMEZONE
TZID:America/New_York
BEGIN:DAYLIGHT
TZOFFSETFROM:-0500
TZOFFSETTO:-0400
TZNAME:EDT
DTSTART:20230312T070000
END:DAYLIGHT
BEGIN:STANDARD
TZOFFSETFROM:-0400
TZOFFSETTO:-0500
TZNAME:EST
DTSTART:20231105T060000
END:STANDARD
END:VTIMEZONE
BEGIN:VEVENT
DTSTART;TZID=America/New_York:20230217T080000
DTEND;TZID=America/New_York:20230217T143000
DTSTAMP:20260421T161033
CREATED:20220425T162743Z
LAST-MODIFIED:20220425T162743Z
UID:49667-1676620800-1676644200@www.westwoodschools.org
SUMMARY:Fundraiser Holiday - Click Here for Details
DESCRIPTION:Students who meet their goal will have this day as a school holiday.  This is a school day for all other students.
URL:https://www.westwoodschools.org/event/fundraiser-holiday-click-here-for-details/
LOCATION:255 Fuller Street\, Camilla\, GA\, 31730\, United States
CATEGORIES:School Wide Events
ORGANIZER;CN="School%20wide%20events":MAILTO:mailto:westwoodschools.org_au73ecodmkt00utcltnd404f1k@group.calendar.google.com
END:VEVENT
END:VCALENDAR