BEGIN:VCALENDAR
VERSION:2.0
PRODID:-//Westwood Schools - ECPv5.12.2//NONSGML v1.0//EN
CALSCALE:GREGORIAN
METHOD:PUBLISH
X-WR-CALNAME:Westwood Schools
X-ORIGINAL-URL:https://www.westwoodschools.org
X-WR-CALDESC:Events for Westwood Schools
BEGIN:VTIMEZONE
TZID:America/New_York
BEGIN:DAYLIGHT
TZOFFSETFROM:-0500
TZOFFSETTO:-0400
TZNAME:EDT
DTSTART:20180311T070000
END:DAYLIGHT
BEGIN:STANDARD
TZOFFSETFROM:-0400
TZOFFSETTO:-0500
TZNAME:EST
DTSTART:20181104T060000
END:STANDARD
END:VTIMEZONE
BEGIN:VEVENT
DTSTART;TZID=America/New_York:20180420T080000
DTEND;TZID=America/New_York:20180420T110000
DTSTAMP:20260424T032805
CREATED:20180309T143100Z
LAST-MODIFIED:20180309T143100Z
UID:40905-1524211200-1524222000@www.westwoodschools.org
SUMMARY:Elementary Field Day Grades K4 - 5th
DESCRIPTION:
URL:https://www.westwoodschools.org/event/elementary-field-day-grades-k4-5th/
CATEGORIES:Elementary Activities,School Wide Events
ORGANIZER;CN="School%20wide%20events":MAILTO:mailto:westwoodschools.org_au73ecodmkt00utcltnd404f1k@group.calendar.google.com
END:VEVENT
END:VCALENDAR