BEGIN:VCALENDAR
VERSION:2.0
PRODID:-//Westwood Schools - ECPv5.12.2//NONSGML v1.0//EN
CALSCALE:GREGORIAN
METHOD:PUBLISH
X-WR-CALNAME:Westwood Schools
X-ORIGINAL-URL:https://www.westwoodschools.org
X-WR-CALDESC:Events for Westwood Schools
BEGIN:VTIMEZONE
TZID:America/New_York
BEGIN:DAYLIGHT
TZOFFSETFROM:-0500
TZOFFSETTO:-0400
TZNAME:EDT
DTSTART:20180311T070000
END:DAYLIGHT
BEGIN:STANDARD
TZOFFSETFROM:-0400
TZOFFSETTO:-0500
TZNAME:EST
DTSTART:20181104T060000
END:STANDARD
END:VTIMEZONE
BEGIN:VEVENT
DTSTART;TZID=America/New_York:20181107T080000
DTEND;TZID=America/New_York:20181107T083000
DTSTAMP:20260421T143325
CREATED:20181001T161732Z
LAST-MODIFIED:20181018T170814Z
UID:45214-1541577600-1541579400@www.westwoodschools.org
SUMMARY:Dress Down Day
DESCRIPTION:We will have a school wide dress down day in support for Ozzie Deason.  Little Ozzie has serious health issues and we want to raise money to help the parents with some of the many financial expenses they are incurring at this time.  Ozzie’s mom\, Leah Adams Deason\, and aunt\, Katie Adams Williams\, are WW alums and his cousin\, Carson Williams\, is a current student.  For a donation of at least $2.00 students can wear flip flops\, caps\, and non-WW t-shirts untucked without a belt.  Students may NOT wear ripped jeans\, gym shorts or other workout attire.
URL:https://www.westwoodschools.org/event/dress-down-day-2/
LOCATION:255 Fuller Street\, Camilla\, GA\, 31730\, United States
CATEGORIES:School Wide Events
ORGANIZER;CN="School%20wide%20events":MAILTO:mailto:westwoodschools.org_au73ecodmkt00utcltnd404f1k@group.calendar.google.com
END:VEVENT
END:VCALENDAR