BEGIN:VCALENDAR
VERSION:2.0
PRODID:-//Westwood Schools - ECPv5.12.2//NONSGML v1.0//EN
CALSCALE:GREGORIAN
METHOD:PUBLISH
X-WR-CALNAME:Westwood Schools
X-ORIGINAL-URL:https://www.westwoodschools.org
X-WR-CALDESC:Events for Westwood Schools
BEGIN:VTIMEZONE
TZID:America/New_York
BEGIN:DAYLIGHT
TZOFFSETFROM:-0500
TZOFFSETTO:-0400
TZNAME:EDT
DTSTART:20180311T070000
END:DAYLIGHT
BEGIN:STANDARD
TZOFFSETFROM:-0400
TZOFFSETTO:-0500
TZNAME:EST
DTSTART:20181104T060000
END:STANDARD
END:VTIMEZONE
BEGIN:VEVENT
DTSTART;TZID=America/New_York:20180825T090000
DTEND;TZID=America/New_York:20180825T100000
DTSTAMP:20260422T222448
CREATED:20180627T141516Z
LAST-MODIFIED:20180627T141516Z
UID:44854-1535187600-1535191200@www.westwoodschools.org
SUMMARY:Cross Country Meet
DESCRIPTION:
URL:https://www.westwoodschools.org/event/cross-country-meet-7/
LOCATION:Furlow Charter School\, 63 Valley Dr\, Americus\, GA\, 31709\, United States
ORGANIZER;CN="School%20wide%20events":MAILTO:mailto:westwoodschools.org_au73ecodmkt00utcltnd404f1k@group.calendar.google.com
END:VEVENT
END:VCALENDAR