BEGIN:VCALENDAR
VERSION:2.0
PRODID:-//Westwood Schools - ECPv5.12.2//NONSGML v1.0//EN
CALSCALE:GREGORIAN
METHOD:PUBLISH
X-WR-CALNAME:Westwood Schools
X-ORIGINAL-URL:https://www.westwoodschools.org
X-WR-CALDESC:Events for Westwood Schools
BEGIN:VTIMEZONE
TZID:America/New_York
BEGIN:DAYLIGHT
TZOFFSETFROM:-0500
TZOFFSETTO:-0400
TZNAME:EDT
DTSTART:20160313T070000
END:DAYLIGHT
BEGIN:STANDARD
TZOFFSETFROM:-0400
TZOFFSETTO:-0500
TZNAME:EST
DTSTART:20161106T060000
END:STANDARD
END:VTIMEZONE
BEGIN:VEVENT
DTSTART;TZID=America/New_York:20161215T120000
DTEND;TZID=America/New_York:20161215T140000
DTSTAMP:20260425T231904
CREATED:20160915T194153Z
LAST-MODIFIED:20160915T194153Z
UID:1127-1481803200-1481810400@www.westwoodschools.org
SUMMARY:6th Period Exam S1
DESCRIPTION:
URL:https://www.westwoodschools.org/event/6th-period-exam-s1/
CATEGORIES:School Wide Events
END:VEVENT
END:VCALENDAR